BEGIN:VCALENDAR
VERSION:2.0
PRODID:-//Date iCal v2.14-dev//NONSGML kigkonsult.se iCalcreator 2.16.6//
METHOD:PUBLISH
X-WR-CALNAME;VALUE=TEXT:Greater Baltimore Cultural Alliance
BEGIN:VTIMEZONE
TZID:America/New_York
BEGIN:STANDARD
DTSTART:20181104T020000
TZOFFSETFROM:-0400
TZOFFSETTO:-0500
TZNAME:EST
END:STANDARD
BEGIN:DAYLIGHT
DTSTART:20190310T020000
TZOFFSETFROM:-0500
TZOFFSETTO:-0400
TZNAME:EDT
END:DAYLIGHT
END:VTIMEZONE
BEGIN:VEVENT
UID:calendar.16372.field_fc_date.0@www.baltimoreculture.org
DTSTAMP:20260423T041842Z
ATTACH;FMTTYPE=image/jpeg:https://www.baltimoreculture.org/sites/default/fi
 les/event-image/wow-web-banner-mission-tix.jpg
CATEGORIES:,
CREATED:20180215T211639Z
DESCRIPTION:WOW Baltimore - a festival celebrating women featuring #MeToo f
 ounder Tarana  Burke and author/activist Roxanne Gay as keynote speakers d
 uring its day-long  series of events. Prominent local and national speaker
 s, performers,  panelists, Baltimore food trucks, an exciting marketpl
 ace, networking  opportunities, mentoring and much more are taking place
  at this year’s WOW  Baltimore located on the campus of Notre Dame of Mary
 land University. The  festival will celebrate and help tackle issues facin
 g women today.\n\nWhat to expect
DTSTART;VALUE=DATE:20180428
DTEND;VALUE=DATE:20180429
LAST-MODIFIED:20180216T144317Z
SUMMARY:WOW - Women of the World Festival - Baltimore
URL:http://www.WOW-Baltimore.org
X-GBCA-NID:16372
END:VEVENT
END:VCALENDAR
