BEGIN:VCALENDAR
VERSION:2.0
PRODID:-//Date iCal v2.14-dev//NONSGML kigkonsult.se iCalcreator 2.16.6//
METHOD:PUBLISH
X-WR-CALNAME;VALUE=TEXT:Greater Baltimore Cultural Alliance
BEGIN:VTIMEZONE
TZID:America/New_York
BEGIN:STANDARD
DTSTART:20181104T020000
TZOFFSETFROM:-0400
TZOFFSETTO:-0500
TZNAME:EST
END:STANDARD
BEGIN:DAYLIGHT
DTSTART:20190310T020000
TZOFFSETFROM:-0500
TZOFFSETTO:-0400
TZNAME:EDT
END:DAYLIGHT
END:VTIMEZONE
BEGIN:VEVENT
UID:calendar.16545.field_fc_date.0@www.baltimoreculture.org
DTSTAMP:20260423T170810Z
ATTACH;FMTTYPE=image/png:https://www.baltimoreculture.org/sites/default/fil
 es/event-image/racism%20catholic.png
CATEGORIES:Lectures/ Workshops,,
CREATED:20180309T164416Z
DESCRIPTION:Pope Francis said, “Racism today is the ultimate evil in our w
 orld.”\n\nDr. Greer G. Gordon’s back by popular demand following the Call 
 to Action  Conference this past October. Greer will continue our explorati
 on of Racism  in the Catholic Church, specifically here in Baltimore. Thi
 s event will be  held at St. Ignatius Catholic Church on Saturday, April 
 14.
DTSTART;TZID=America/New_York:20180414T083000
DTEND;TZID=America/New_York:20180414T143000
GEO:+39.298428;-76.613238
LAST-MODIFIED:20180309T165159Z
LOCATION:St. Ignatius Catholic Community, 740 N. Calvert Street, Baltimor
 e, MD
SUMMARY:Racism in the Catholic Church - A Catholic Conversation
URL:http://www.st-ignatius.net/calendar-item/dr-greer-gordon-and-racism-in-
 the-catholic-church/
X-GBCA-NID:16545
END:VEVENT
END:VCALENDAR
