BEGIN:VCALENDAR
VERSION:2.0
PRODID:-//Date iCal v2.14-dev//NONSGML kigkonsult.se iCalcreator 2.16.6//
METHOD:PUBLISH
X-WR-CALNAME;VALUE=TEXT:Greater Baltimore Cultural Alliance
BEGIN:VTIMEZONE
TZID:America/New_York
BEGIN:STANDARD
DTSTART:20181104T020000
TZOFFSETFROM:-0400
TZOFFSETTO:-0500
RDATE:20191103T020000
TZNAME:EST
END:STANDARD
BEGIN:DAYLIGHT
DTSTART:20190310T020000
TZOFFSETFROM:-0500
TZOFFSETTO:-0400
TZNAME:EDT
END:DAYLIGHT
END:VTIMEZONE
BEGIN:VEVENT
UID:calendar.17979.field_fc_date.0@www.baltimoreculture.org
DTSTAMP:20260423T041927Z
ATTACH;FMTTYPE=image/jpeg:https://www.baltimoreculture.org/sites/default/fi
 les/event-image/Irish%20dancing%20Feet%202014_1.jpg
CATEGORIES:,,,,
CREATED:20180731T153510Z
DESCRIPTION:From Irish step dancing to cultural activities and from traditi
 onal Irish  food to authentic Celtic music, there is something for everyo
 ne at the 45th  Annual Maryland Irish Festival set to take place on Novemb
 er 9-11, 2018 at  the Timonium Fairgrounds from 6-11 p.m. on Friday; 12 
 noon – 11 p.m. on  Saturday and on Sunday from 12 noon - 6 p.m.
DTSTART;TZID=America/New_York:20181109T180000
DTEND;TZID=America/New_York:20181109T230000
GEO:+39.447238;-76.630336
LAST-MODIFIED:20180801T155405Z
LOCATION:Maryland State Fairgrounds, 2200 York Road, Timonium, MD
SUMMARY:45th Annual Maryland Irish Festival
URL:http://www.irishfestival.com
X-GBCA-NID:17979
END:VEVENT
BEGIN:VEVENT
UID:calendar.17979.field_fc_date.0@www.baltimoreculture.org
DTSTAMP:20260423T041927Z
ATTACH;FMTTYPE=image/jpeg:https://www.baltimoreculture.org/sites/default/fi
 les/event-image/Irish%20dancing%20Feet%202014_1.jpg
CATEGORIES:,,,,
CREATED:20180731T153510Z
DESCRIPTION:From Irish step dancing to cultural activities and from traditi
 onal Irish  food to authentic Celtic music, there is something for everyo
 ne at the 45th  Annual Maryland Irish Festival set to take place on Novemb
 er 9-11, 2018 at  the Timonium Fairgrounds from 6-11 p.m. on Friday; 12 
 noon – 11 p.m. on  Saturday and on Sunday from 12 noon - 6 p.m.
DTSTART;TZID=America/New_York:20181110T120000
DTEND;TZID=America/New_York:20181110T230000
GEO:+39.447238;-76.630336
LAST-MODIFIED:20180801T155405Z
LOCATION:Maryland State Fairgrounds, 2200 York Road, Timonium, MD
SUMMARY:45th Annual Maryland Irish Festival
URL:http://www.irishfestival.com
X-GBCA-NID:17979
END:VEVENT
BEGIN:VEVENT
UID:calendar.17979.field_fc_date.0@www.baltimoreculture.org
DTSTAMP:20260423T041927Z
ATTACH;FMTTYPE=image/jpeg:https://www.baltimoreculture.org/sites/default/fi
 les/event-image/Irish%20dancing%20Feet%202014_1.jpg
CATEGORIES:,,,,
CREATED:20180731T153510Z
DESCRIPTION:From Irish step dancing to cultural activities and from traditi
 onal Irish  food to authentic Celtic music, there is something for everyo
 ne at the 45th  Annual Maryland Irish Festival set to take place on Novemb
 er 9-11, 2018 at  the Timonium Fairgrounds from 6-11 p.m. on Friday; 12 
 noon – 11 p.m. on  Saturday and on Sunday from 12 noon - 6 p.m.
DTSTART;TZID=America/New_York:20181111T120000
DTEND;TZID=America/New_York:20181111T180000
GEO:+39.447238;-76.630336
LAST-MODIFIED:20180801T155405Z
LOCATION:Maryland State Fairgrounds, 2200 York Road, Timonium, MD
SUMMARY:45th Annual Maryland Irish Festival
URL:http://www.irishfestival.com
X-GBCA-NID:17979
END:VEVENT
END:VCALENDAR
