BEGIN:VCALENDAR
VERSION:2.0
PRODID:-//Date iCal v2.14-dev//NONSGML kigkonsult.se iCalcreator 2.16.6//
METHOD:PUBLISH
X-WR-CALNAME;VALUE=TEXT:Greater Baltimore Cultural Alliance
BEGIN:VTIMEZONE
TZID:America/New_York
BEGIN:STANDARD
DTSTART:20181104T020000
TZOFFSETFROM:-0400
TZOFFSETTO:-0500
TZNAME:EST
END:STANDARD
BEGIN:DAYLIGHT
DTSTART:20190310T020000
TZOFFSETFROM:-0500
TZOFFSETTO:-0400
TZNAME:EDT
END:DAYLIGHT
END:VTIMEZONE
BEGIN:VEVENT
UID:calendar.18603.field_fc_date.0@www.baltimoreculture.org
DTSTAMP:20260423T134058Z
ATTACH;FMTTYPE=image/png:https://www.baltimoreculture.org/sites/default/fil
 es/event-image/Screen%20Shot%202018-09-25%20at%203.34.07%20PM.png
CATEGORIES:,,Performance
CREATED:20180925T193605Z
DESCRIPTION:Music Livewire 9: Electrifying Friday, October 26 – Sunday, O
 ctober 28 Earl and Darielle Linehan Concert Hall\n\nUMBC’s ninth annual ne
 w music festival — Livewire 9: Electrifying —  celebrates the music of com
 poser and Anna Rubin and her contemporaries,  including Pierre Boulez, N
 athan Lincoln de Cusatis, Linda Dusman, Hannah  Lash, Elainie Lillios,
  Steve Reich, Gregory Spears, and Dan Visconti.
DTSTART;TZID=America/New_York:20181026T193000
DTEND;TZID=America/New_York:20181028T170000
LAST-MODIFIED:20180926T130710Z
LOCATION:Earl and Darielle Linehan Concert Hall, 1000 Hilltop Circle, Bal
 timore, MD
SUMMARY:Livewire 9: Electrifying
URL:https://wp.me/p2xNJ1-2tr
X-GBCA-NID:18603
END:VEVENT
END:VCALENDAR
