BEGIN:VCALENDAR
VERSION:2.0
PRODID:-//Date iCal v2.14-dev//NONSGML kigkonsult.se iCalcreator 2.16.6//
METHOD:PUBLISH
X-WR-CALNAME;VALUE=TEXT:Greater Baltimore Cultural Alliance
BEGIN:VTIMEZONE
TZID:America/New_York
BEGIN:STANDARD
DTSTART:20181104T020000
TZOFFSETFROM:-0400
TZOFFSETTO:-0500
TZNAME:EST
END:STANDARD
BEGIN:DAYLIGHT
DTSTART:20190310T020000
TZOFFSETFROM:-0500
TZOFFSETTO:-0400
TZNAME:EDT
END:DAYLIGHT
END:VTIMEZONE
BEGIN:VEVENT
UID:calendar.18903.field_fc_date.0@www.baltimoreculture.org
DTSTAMP:20260424T042508Z
ATTACH;FMTTYPE=image/png:https://www.baltimoreculture.org/sites/default/fil
 es/event-image/activism%20%26%20Art.png
CATEGORIES:,Lectures/ Workshops,Exhibition,,History & Heritage
CREATED:20181018T145316Z
DESCRIPTION:In 1968, nine Catholic peace activists protested the Vietnam W
 ar in a fiery  blaze in Catonsville, Maryland. “Activism and Art: the Cat
 onsville Nine, 50  Years Later” examines one of the most iconic and writt
 en-about acts of  political protest in 20th century American history. Thro
 ugh art created by  Catonsville Nine activist Tom Lewis and elements of th
 e documentary “Hit &  Stay: a history of faith and resistance,” this exhi
 bit explores the  motivations and considers the consequences of civil diso
 bedience, and  contextualizes this protest in our present turbulent polit
 ical climate.
DTSTART;TZID=America/New_York:20181018T100000
DTEND;TZID=America/New_York:20181018T170000
GEO:+39.296862;-76.619012
LAST-MODIFIED:20181018T185807Z
LOCATION:Maryland Historical Society, 201 West Monument St, Baltimore, M
 D
RRULE:FREQ=WEEKLY;UNTIL=20190502T075959Z;INTERVAL=1;BYDAY=SU,WE,TH,FR,SA;WK
 ST=SU
SUMMARY:Activism and Art: The Catonsville Nine, 50 Years Later
URL:https://www.mdhs.org/activism-and-art
X-GBCA-NID:18903
END:VEVENT
END:VCALENDAR
