BEGIN:VCALENDAR
VERSION:2.0
PRODID:-//Date iCal v2.14-dev//NONSGML kigkonsult.se iCalcreator 2.16.6//
METHOD:PUBLISH
X-WR-CALNAME;VALUE=TEXT:Greater Baltimore Cultural Alliance
BEGIN:VTIMEZONE
TZID:America/New_York
BEGIN:STANDARD
DTSTART:20191103T020000
TZOFFSETFROM:-0400
TZOFFSETTO:-0500
TZNAME:EST
END:STANDARD
BEGIN:DAYLIGHT
DTSTART:20190310T020000
TZOFFSETFROM:-0500
TZOFFSETTO:-0400
TZNAME:EDT
END:DAYLIGHT
END:VTIMEZONE
BEGIN:VEVENT
UID:calendar.19502.field_fc_date.0@www.baltimoreculture.org
DTSTAMP:20260425T021244Z
ATTACH;FMTTYPE=image/jpeg:https://www.baltimoreculture.org/sites/default/fi
 les/u735/IMG_8716.jpg
CATEGORIES:
CREATED:20190110T170534Z
DESCRIPTION:/Forever Family/ offers inspirational stories and songs of fami
 ly, defined  both conventionally and otherwise: the unconditional love af
 forded a child by  a parent or grandparent; sons and daughters honoring f
 athers and mothers;  loving whomever we see as family, be it under our r
 oofs or in our  communities. The 5:30-6:30pm reception period for this ope
 ning event is  graced with composer/jazz pianist George Spicka offering am
 bient music as the  exhibition opens to the public for the first time.
DTSTART;TZID=America/New_York:20190117T173000
DTEND;TZID=America/New_York:20190117T200000
GEO:+39.293155;-76.618815
LAST-MODIFIED:20200206T000344Z
LOCATION:Maryland Art Place, 218 W Saratoga St, Baltimore, MD
SUMMARY:Forever Family
URL:https://onethousandloveletters.com/
X-GBCA-NID:19502
END:VEVENT
END:VCALENDAR
