BEGIN:VCALENDAR
VERSION:2.0
PRODID:-//Date iCal v2.14-dev//NONSGML kigkonsult.se iCalcreator 2.16.6//
METHOD:PUBLISH
X-WR-CALNAME;VALUE=TEXT:Greater Baltimore Cultural Alliance
BEGIN:VTIMEZONE
TZID:America/New_York
BEGIN:STANDARD
DTSTART:20191103T020000
TZOFFSETFROM:-0400
TZOFFSETTO:-0500
TZNAME:EST
END:STANDARD
BEGIN:DAYLIGHT
DTSTART:20200308T020000
TZOFFSETFROM:-0500
TZOFFSETTO:-0400
TZNAME:EDT
END:DAYLIGHT
END:VTIMEZONE
BEGIN:VEVENT
UID:calendar.20234.field_fc_date.0@www.baltimoreculture.org
DTSTAMP:20260424T170233Z
ATTACH;FMTTYPE=image/jpeg:https://www.baltimoreculture.org/sites/default/fi
 les/event-image/Calender%20Thumbnail.jpg
CATEGORIES:,,,,,Performance
CREATED:20190401T052947Z
DESCRIPTION:Mark your calendar for a stupendous journey around the world of
  wines at the  Sykesville Art & Wine Festival, on Sunday May 5th, 12 to 
 5pm! This year, the Downtown Sykesville Connection (DSC) is not only show
 casing  some of the best Maryland wineries, the DSC is also bringing to d
 owntown  Sykesville over 50 vineyards from the Sonoma Valley, Argentina,
  France and  Italy. Whites, reds and rosés, wines, cavas and other spec
 ialty wines will  be available for unlimited sampling with your collectibl
 e Sykesville glass.
DTSTART;TZID=America/New_York:20190505T120000
DTEND;TZID=America/New_York:20190505T170000
GEO:+39.364224;-76.969239
LAST-MODIFIED:20190402T143545Z
LOCATION:Main Street, Sykesville, 7547 Main Street, Sykesville, MD
SUMMARY:Sykesville Art and Wine Festival
URL:https://www.sykesvillemainstreet.com
X-GBCA-NID:20234
END:VEVENT
END:VCALENDAR
