BEGIN:VCALENDAR
VERSION:2.0
PRODID:-//Date iCal v2.14-dev//NONSGML kigkonsult.se iCalcreator 2.16.6//
METHOD:PUBLISH
X-WR-CALNAME;VALUE=TEXT:Greater Baltimore Cultural Alliance
BEGIN:VTIMEZONE
TZID:America/New_York
BEGIN:STANDARD
DTSTART:20191103T020000
TZOFFSETFROM:-0400
TZOFFSETTO:-0500
TZNAME:EST
END:STANDARD
BEGIN:DAYLIGHT
DTSTART:20200308T020000
TZOFFSETFROM:-0500
TZOFFSETTO:-0400
TZNAME:EDT
END:DAYLIGHT
END:VTIMEZONE
BEGIN:VEVENT
UID:calendar.20399.field_fc_date.0@www.baltimoreculture.org
DTSTAMP:20260425T124021Z
ATTACH;FMTTYPE=image/jpeg:https://www.baltimoreculture.org/sites/default/fi
 les/u167/Spire%203rd%20annual%20postcard%20cover%20only.jpg
CATEGORIES:,
CREATED:20190425T123223Z
DESCRIPTION:Featuring eight superb solo pianists from the Greater Baltimore
 /Washington  area with a new artist taking the stage every thirty minutes.
DTSTART;TZID=America/New_York:20190505T140000
DTEND;TZID=America/New_York:20190505T180000
GEO:+39.298625;-76.618984
LAST-MODIFIED:20191026T000336Z
LOCATION:First & Franklin Presbyterian Church, (corner of Park Ave and Mad
 ison St.), 210 W. Madison St., Baltimore, MD
SUMMARY:Third Annual Baltimore Piano Marathon - The Spire Series
URL:http://www.firstfranklin.org/index.php/community/music/the-spire-series
 /
X-GBCA-NID:20399
END:VEVENT
END:VCALENDAR
