BEGIN:VCALENDAR
VERSION:2.0
PRODID:-//Date iCal v2.14-dev//NONSGML kigkonsult.se iCalcreator 2.16.6//
METHOD:PUBLISH
X-WR-CALNAME;VALUE=TEXT:Greater Baltimore Cultural Alliance
BEGIN:VTIMEZONE
TZID:America/New_York
BEGIN:STANDARD
DTSTART:20191103T020000
TZOFFSETFROM:-0400
TZOFFSETTO:-0500
TZNAME:EST
END:STANDARD
BEGIN:DAYLIGHT
DTSTART:20200308T020000
TZOFFSETFROM:-0500
TZOFFSETTO:-0400
TZNAME:EDT
END:DAYLIGHT
END:VTIMEZONE
BEGIN:VEVENT
UID:calendar.20796.field_fc_date.0@www.baltimoreculture.org
DTSTAMP:20260424T131821Z
ATTACH;FMTTYPE=image/jpeg:https://www.baltimoreculture.org/sites/default/fi
 les/event-image/aspergers_are_us.jpg
CATEGORIES:,,Performance
CREATED:20190612T233912Z
DESCRIPTION:Asperger's Are Us is the first comedy troupe consisting of open
 ly autistic  people. As they say, “We're not a charity and we're not poki
 ng fun at  Asperger's. We're absurd.” For the members of the Massachusetts
  sketch  comedy troupe, it’s easier to associate with a faceless audience
  than with  their own families. No matter who’s in the crowd, best friend
 s Noah, New  Michael, Jack, and Ethan have one simple mantra: “We would
  much rather have  the audience appreciate us as comedians than people who
  have overcome  adversity.”\n\nTHU AUG 29 | 7PM | $15, $12 MEMBERS (+$3 a
 t the door)
DTSTART;TZID=America/New_York:20190829T190000
DTEND;TZID=America/New_York:20190829T210000
GEO:+39.286736;-76.571783
LAST-MODIFIED:20200906T000007Z
LOCATION:Creative Alliance at The Patterson, 3134 Eastern Avenue, Baltimo
 re, MD
SUMMARY:Comedy: Asperger’s Are Us
URL:https://www.creativealliance.org/events/2019/comedy-aspergers-are-us
X-GBCA-NID:20796
END:VEVENT
END:VCALENDAR
