BEGIN:VCALENDAR
VERSION:2.0
PRODID:-//Date iCal v2.14-dev//NONSGML kigkonsult.se iCalcreator 2.16.6//
METHOD:PUBLISH
X-WR-CALNAME;VALUE=TEXT:Greater Baltimore Cultural Alliance
BEGIN:VTIMEZONE
TZID:America/New_York
BEGIN:STANDARD
DTSTART:20201101T020000
TZOFFSETFROM:-0400
TZOFFSETTO:-0500
TZNAME:EST
END:STANDARD
BEGIN:DAYLIGHT
DTSTART:20200308T020000
TZOFFSETFROM:-0500
TZOFFSETTO:-0400
TZNAME:EDT
END:DAYLIGHT
END:VTIMEZONE
BEGIN:VEVENT
UID:calendar.21200.field_fc_date.0@www.baltimoreculture.org
DTSTAMP:20260423T022814Z
ATTACH;FMTTYPE=image/jpeg:https://www.baltimoreculture.org/sites/default/fi
 les/u117/Dec19_no%20words_FB%20size.jpg
CATEGORIES:,,Lectures/ Workshops,,,,,Performance
CREATED:20190815T182118Z
DESCRIPTION:FIRST SUNDAY CONCERT SERIES Handel’s Messiah Sunday, December 
 8 at 3 p.m. St. Casimir, Baltimore\n\nElissa Edwards, Soprano Jessica Re
 nfro, Alto Dr. Min Jin, Tenor Lorenzo Zapata, Bass
DTSTART;TZID=America/New_York:20191208T150000
DTEND;TZID=America/New_York:20191208T170000
LAST-MODIFIED:20191006T000331Z
LOCATION:St. Casimir Church, 2800 O'Donnell, Baltimore, MD
SUMMARY:Bach in Baltimore: Handel's Messiah
URL:https://bachinbaltimore.org/portfolio-items/handels-messiah-19-20/
X-GBCA-NID:21200
END:VEVENT
END:VCALENDAR
