BEGIN:VCALENDAR
VERSION:2.0
PRODID:-//Date iCal v2.14-dev//NONSGML kigkonsult.se iCalcreator 2.16.6//
METHOD:PUBLISH
X-WR-CALNAME;VALUE=TEXT:Greater Baltimore Cultural Alliance
BEGIN:VTIMEZONE
TZID:America/New_York
BEGIN:STANDARD
DTSTART:20201101T020000
TZOFFSETFROM:-0400
TZOFFSETTO:-0500
TZNAME:EST
END:STANDARD
BEGIN:DAYLIGHT
DTSTART:20210314T020000
TZOFFSETFROM:-0500
TZOFFSETTO:-0400
TZNAME:EDT
END:DAYLIGHT
END:VTIMEZONE
BEGIN:VEVENT
UID:calendar.23174.field_fc_date.0@www.baltimoreculture.org
DTSTAMP:20260423T151246Z
ATTACH;FMTTYPE=image/png:https://www.baltimoreculture.org/sites/default/fil
 es/event-image/MAP.png
CATEGORIES:,,,Exhibition
CREATED:20200521T185541Z
DESCRIPTION:*Maryland Art Place (MAP)* is pleased to be partnering with the
  *Maryland  Institute College of Art (MICA’s) Curatorial Practices Program
 * this  spring. MAP will be hosting two exhibitions simultaneously by stud
 ents of the  program.
DTSTART;VALUE=DATE:20200604
DTEND;VALUE=DATE:20200628
LAST-MODIFIED:20200521T185541Z
LOCATION:Virtual Event!, This event takes place online., Participate from
  Anywhere you are!, MD
SUMMARY:Locus amoenus, Locus terribilis & Safe House (Virtual Exhibition)
URL:http://www.mdartplace.org/exhibitions/virtual-exhibitions
X-GBCA-NID:23174
END:VEVENT
END:VCALENDAR
