BEGIN:VCALENDAR
VERSION:2.0
PRODID:-//Date iCal v2.14-dev//NONSGML kigkonsult.se iCalcreator 2.16.6//
METHOD:PUBLISH
X-WR-CALNAME;VALUE=TEXT:Greater Baltimore Cultural Alliance
BEGIN:VTIMEZONE
TZID:America/New_York
BEGIN:STANDARD
DTSTART:20201101T020000
TZOFFSETFROM:-0400
TZOFFSETTO:-0500
TZNAME:EST
END:STANDARD
BEGIN:DAYLIGHT
DTSTART:20210314T020000
TZOFFSETFROM:-0500
TZOFFSETTO:-0400
TZNAME:EDT
END:DAYLIGHT
END:VTIMEZONE
BEGIN:VEVENT
UID:calendar.23185.field_fc_date.0@www.baltimoreculture.org
DTSTAMP:20260422T152435Z
ATTACH;FMTTYPE=image/jpeg:https://www.baltimoreculture.org/sites/default/fi
 les/1589415936125_mobileLarge.jpg
CATEGORIES:,
CREATED:20200527T145253Z
DESCRIPTION:Allison Bordlemay has incredible vocal strength and range. Comb
 ined with her  smooth sound, Allison genuinely exudes a fun and intimate 
 vibe while  performing. Allison is an alumi of Berklee College of Music in
  Boston and has  studied under some of the best vocal coaches such as Kay 
 Lorenze and  Katherine Wright.
DTSTART;TZID=America/New_York:20200606T190000
DTEND;TZID=America/New_York:20200606T210000
LAST-MODIFIED:20210614T162219Z
LOCATION:Virtual Event!, This event takes place online., Participate from
  Anywhere you are!, MD
SUMMARY:Warren Wolf and Allison Bordlemay: LIVE STREAMING CONCERT
URL:https://www.instantseats.com/index.cfm?fuseaction=home.event&eventID=A5
 8FA725-B717-2C73-56E680FB58A08CC3
X-GBCA-NID:23185
END:VEVENT
END:VCALENDAR
