BEGIN:VCALENDAR
VERSION:2.0
PRODID:-//Date iCal v2.14-dev//NONSGML kigkonsult.se iCalcreator 2.16.6//
METHOD:PUBLISH
X-WR-CALNAME;VALUE=TEXT:Greater Baltimore Cultural Alliance
BEGIN:VTIMEZONE
TZID:America/New_York
BEGIN:STANDARD
DTSTART:20201101T020000
TZOFFSETFROM:-0400
TZOFFSETTO:-0500
TZNAME:EST
END:STANDARD
BEGIN:DAYLIGHT
DTSTART:20210314T020000
TZOFFSETFROM:-0500
TZOFFSETTO:-0400
TZNAME:EDT
END:DAYLIGHT
END:VTIMEZONE
BEGIN:VEVENT
UID:calendar.28568.field_fc_date.0@www.baltimoreculture.org
DTSTAMP:20260422T230549Z
ATTACH;FMTTYPE=image/jpeg:https://www.baltimoreculture.org/sites/default/fi
 les/u160/peabody_1.jpg
CATEGORIES:,,
CREATED:20201001T211840Z
DESCRIPTION:The Peabody String Sinfonia is a student-run, conductor-less o
 rchestra whose  mission is to bring healing and beauty to people in our Ba
 ltimore community  through music. Sinfonia is composed of Peabody students
  and alumni who  volunteeer their time for this project. Its members belie
 ve music is now  more important than ever.\n\nDuring this time of social d
 istancing and isolation, music allows us as  humans to communicate and co
 nnect with other humans. Sinfonia will share  both classical music for str
 ing orchestra as well as arrangements of familiar  pop songs.
DTSTART;TZID=America/New_York:20201105T190000
DTEND;TZID=America/New_York:20201105T200000
GEO:+39.294554;-76.617254
LAST-MODIFIED:20201104T000351Z
LOCATION:Enoch Pratt Free Library, 400 Cathedral Street, Baltimore, MD
SUMMARY:Live Music: Peabody String Sinfonia
URL:https://calendar.prattlibrary.org/event/live_music_peabody_string_sinfo
 nia
X-GBCA-NID:28568
END:VEVENT
END:VCALENDAR
