BEGIN:VCALENDAR
VERSION:2.0
PRODID:-//Date iCal v2.14-dev//NONSGML kigkonsult.se iCalcreator 2.16.6//
METHOD:PUBLISH
X-WR-CALNAME;VALUE=TEXT:Greater Baltimore Cultural Alliance
BEGIN:VTIMEZONE
TZID:America/New_York
BEGIN:STANDARD
DTSTART:20201101T020000
TZOFFSETFROM:-0400
TZOFFSETTO:-0500
RDATE:20211107T020000
TZNAME:EST
END:STANDARD
BEGIN:DAYLIGHT
DTSTART:20210314T020000
TZOFFSETFROM:-0500
TZOFFSETTO:-0400
TZNAME:EDT
END:DAYLIGHT
END:VTIMEZONE
BEGIN:VEVENT
UID:calendar.28610.field_fc_date.0@www.baltimoreculture.org
DTSTAMP:20260423T221650Z
ATTACH;FMTTYPE=image/jpeg:https://www.baltimoreculture.org/sites/default/fi
 les/102701897_10158103154140731_4336419422647054861_n0_2b54705e-95af-091b-
 e2e6176761783f86.jpg
CATEGORIES:,,,
CREATED:20201029T171556Z
DESCRIPTION:Join award-winning author Derrick Barnes as he shares about his
  path from  child to published author and a reading from one of his books.
  The event will  conclude with time for questions and answers.\n\nSubmit y
 our questions to be answered during the live event:  https://forms.gle/bK8
 tBPVFDS3dM5m49 [1]\n\n\n[1] https://forms.gle/bK8tBPVFDS3dM5m49
DTSTART;TZID=America/New_York:20201116T183000
DTEND;TZID=America/New_York:20201116T193000
LAST-MODIFIED:20201104T000351Z
LOCATION:Virtual Event!, This event takes place online., Participate from
  Anywhere you are!, MD
SUMMARY:Kids Writers LIVE! Derrick Barnes
URL:https://calendar.prattlibrary.org/event/kids_writers_live_derrick_barne
 s
X-GBCA-NID:28610
END:VEVENT
END:VCALENDAR
