BEGIN:VCALENDAR
VERSION:2.0
PRODID:-//Date iCal v2.14-dev//NONSGML kigkonsult.se iCalcreator 2.16.6//
METHOD:PUBLISH
X-WR-CALNAME;VALUE=TEXT:Greater Baltimore Cultural Alliance
BEGIN:VTIMEZONE
TZID:America/New_York
BEGIN:STANDARD
DTSTART:20211107T020000
TZOFFSETFROM:-0400
TZOFFSETTO:-0500
TZNAME:EST
END:STANDARD
BEGIN:DAYLIGHT
DTSTART:20210314T020000
TZOFFSETFROM:-0500
TZOFFSETTO:-0400
TZNAME:EDT
END:DAYLIGHT
END:VTIMEZONE
BEGIN:VEVENT
UID:calendar.28712.field_fc_date.0@www.baltimoreculture.org
DTSTAMP:20260423T165224Z
ATTACH;FMTTYPE=image/jpeg:https://www.baltimoreculture.org/sites/default/fi
 les/event-image/201215-mlk-convocation-event-calendar.jpg
CATEGORIES:,,,Lectures/ Workshops,
CREATED:20201215T151850Z
DESCRIPTION:New York Times bestselling and National Book Award-winning auth
 or Ibram X.  Kendi will speak at Loyola University Maryland's annual Marti
 n Luther King,  Jr., Convocation on Wednesday, Jan. 20, 2021, at 7 p.
 m. The convocation,  which is free and open to all, will be livestreamed
 .
DTSTART;TZID=America/New_York:20210120T190000
DTEND;TZID=America/New_York:20210120T200000
GEO:+39.345681;-76.618643
LAST-MODIFIED:20201215T151850Z
LOCATION:Loyola University Maryland, 4501 North Charles Street, Baltimore
 , MD
SUMMARY:Loyola’s 28th annual MLK Convocation to feature bestselling author 
 Ibram X.  Kendi
URL:https://www.loyola.edu/join-us/mlk-convocation
X-GBCA-NID:28712
END:VEVENT
END:VCALENDAR
