BEGIN:VCALENDAR
VERSION:2.0
PRODID:-//Date iCal v2.14-dev//NONSGML kigkonsult.se iCalcreator 2.16.6//
METHOD:PUBLISH
X-WR-CALNAME;VALUE=TEXT:Greater Baltimore Cultural Alliance
BEGIN:VTIMEZONE
TZID:America/New_York
BEGIN:STANDARD
DTSTART:20211107T020000
TZOFFSETFROM:-0400
TZOFFSETTO:-0500
TZNAME:EST
END:STANDARD
BEGIN:DAYLIGHT
DTSTART:20210314T020000
TZOFFSETFROM:-0500
TZOFFSETTO:-0400
TZNAME:EDT
END:DAYLIGHT
END:VTIMEZONE
BEGIN:VEVENT
UID:calendar.29942.field_fc_date.0@www.baltimoreculture.org
DTSTAMP:20260423T170800Z
ATTACH;FMTTYPE=image/jpeg:https://www.baltimoreculture.org/sites/default/fi
 les/u138/Lakota_Bonnet.jpg
CATEGORIES:,,
CREATED:20210202T222058Z
DESCRIPTION:Join us for a talk inspired by Stripes and Stars: Reclaiming La
 kota  Independence, featuring Sheldon Raymore, member of the Cheyenne Ri
 ver Sioux  Nation and multidisciplinary artist and performer. The conversa
 tion will be  led by Dare Turner, BMA Assistant Curator of Indigenous Art
  of the Americas.\n\nExperience a beadwork demonstration and storytelling 
 with Sheldon and explore  the exhibition’s themes and symbolism with Dare.
DTSTART;TZID=America/New_York:20210203T180000
DTEND;TZID=America/New_York:20210203T190000
GEO:+39.325755;-76.61944
LAST-MODIFIED:20220910T001257Z
LOCATION:Baltimore Museum of Art, 10 Art Museum Drive, Baltimore, MD
SUMMARY:BMA Violet Hour: Reclaiming Lakota Independence
URL:https://artbma.org/events/2021-02-03_bma.violet.hour.lakota.independenc
 e
X-GBCA-NID:29942
END:VEVENT
END:VCALENDAR
