BEGIN:VCALENDAR
VERSION:2.0
PRODID:-//Date iCal v2.14-dev//NONSGML kigkonsult.se iCalcreator 2.16.6//
METHOD:PUBLISH
X-WR-CALNAME;VALUE=TEXT:Greater Baltimore Cultural Alliance
BEGIN:VTIMEZONE
TZID:America/New_York
BEGIN:STANDARD
DTSTART:20211107T020000
TZOFFSETFROM:-0400
TZOFFSETTO:-0500
TZNAME:EST
END:STANDARD
BEGIN:DAYLIGHT
DTSTART:20210314T020000
TZOFFSETFROM:-0500
TZOFFSETTO:-0400
TZNAME:EDT
END:DAYLIGHT
END:VTIMEZONE
BEGIN:VEVENT
UID:calendar.29949.field_fc_date.0@www.baltimoreculture.org
DTSTAMP:20260423T151156Z
ATTACH;FMTTYPE=image/jpeg:https://www.baltimoreculture.org/sites/default/fi
 les/u497/Biehler2c.jpg
CATEGORIES:,,
CREATED:20210208T192646Z
DESCRIPTION:UMBC's *Humanities Forum* presents *Dawn Biehler* [1], Associa
 te Professor,  Geography and Environmental Systems; and Affiliate Facult
 y, Department of  Gender, Women’s, + Sexuality Studies, UMBC, who wil
 l speak on “Embodying  Empire Through Captivity: Geographies of Caged Anim
 als, Human Domination, and  Struggle in New York’s Central Park.”\n\n\n[
 1] https://ges.umbc.edu/dawn-biehler/
DTSTART;TZID=America/New_York:20210216T160000
DTEND;TZID=America/New_York:20210216T173000
LAST-MODIFIED:20231130T001256Z
LOCATION:Virtual Event!, This event takes place online., Participate from
  Anywhere you are!, MD
SUMMARY:Dawn Biehler: “Embodying Empire Through Captivity”
URL:https://artsandculture.umbc.edu/event/dawn-biehler-embodying-empire-thr
 ough-captivity/
X-GBCA-NID:29949
END:VEVENT
END:VCALENDAR
