BEGIN:VCALENDAR
VERSION:2.0
PRODID:-//Date iCal v2.14-dev//NONSGML kigkonsult.se iCalcreator 2.16.6//
METHOD:PUBLISH
X-WR-CALNAME;VALUE=TEXT:Greater Baltimore Cultural Alliance
BEGIN:VTIMEZONE
TZID:America/New_York
BEGIN:STANDARD
DTSTART:20211107T020000
TZOFFSETFROM:-0400
TZOFFSETTO:-0500
TZNAME:EST
END:STANDARD
BEGIN:DAYLIGHT
DTSTART:20210314T020000
TZOFFSETFROM:-0500
TZOFFSETTO:-0400
TZNAME:EDT
END:DAYLIGHT
END:VTIMEZONE
BEGIN:VEVENT
UID:calendar.29996.field_fc_date.0@www.baltimoreculture.org
DTSTAMP:20260423T162617Z
ATTACH;FMTTYPE=image/jpeg:https://www.baltimoreculture.org/sites/default/fi
 les/u4548/3-2-21_OFJT_Eversley_portrait_c003_0.jpg
CATEGORIES:,,,Lectures/ Workshops
CREATED:20210218T185632Z
DESCRIPTION:ART SEMINAR GROUP WEBINAR - ONLINE PROGRAM THROUGH ZOOM\n\nCura
 tor’s Choice: Danielle O’Steen on Frederick Eversley: Cast Plastic  Sculpt
 ure in the 1970s with Danielle O’Steen, curator at The Kreeger Museum
DTSTART;TZID=America/New_York:20210302T133000
DTEND;TZID=America/New_York:20210302T150000
LAST-MODIFIED:20230930T001256Z
LOCATION:Virtual Event!, This event takes place online., Participate from
  Anywhere you are!, MD
SUMMARY:WEBINAR: Danielle O’Steen on Frederick Eversley: Cast Plastic Sculp
 ture in  the 1970s
URL:http://www.artseminargroup.org/events/2021/3/2-webinar-curators-choice-
 danielle-osteen-on-frederick-eversley-cast-plastic-sculpture-in-the-1970s
X-GBCA-NID:29996
END:VEVENT
END:VCALENDAR
