BEGIN:VCALENDAR
VERSION:2.0
PRODID:-//Date iCal v2.14-dev//NONSGML kigkonsult.se iCalcreator 2.16.6//
METHOD:PUBLISH
X-WR-CALNAME;VALUE=TEXT:Greater Baltimore Cultural Alliance
BEGIN:VTIMEZONE
TZID:America/New_York
BEGIN:STANDARD
DTSTART:20211107T020000
TZOFFSETFROM:-0400
TZOFFSETTO:-0500
TZNAME:EST
END:STANDARD
BEGIN:DAYLIGHT
DTSTART:20220313T020000
TZOFFSETFROM:-0500
TZOFFSETTO:-0400
TZNAME:EDT
END:DAYLIGHT
END:VTIMEZONE
BEGIN:VEVENT
UID:calendar.30136.field_fc_date.0@www.baltimoreculture.org
DTSTAMP:20260423T151226Z
ATTACH;FMTTYPE=image/jpeg:https://www.baltimoreculture.org/sites/default/fi
 les/event-image/Tydlacka-Mary-Jo-Another-Teacup-of-Hope-RVAE2021-WEB.jpg
CATEGORIES:,Exhibition
CREATED:20210330T170052Z
DESCRIPTION:The Arts Council's annual Resident Visual Artists Exhibit showc
 ases artists  with studios at the Howard County Center for the Arts, incl
 uding recent work  by James Adkins, Joan Bevelaqua, Sara Engel, Myungso
 ok Ryu Kim, Diana Marta,  Joyce J. Ritter, Lisa Scarbath, Jereme Scott
 , Andrei Trach, Jamie Travers,  Mary Jo Tydlacka, and David Zuccarini.
DTSTART;TZID=America/New_York:20210424T100000
DTEND;TZID=America/New_York:20210424T160000
GEO:+39.292221;-76.806449
LAST-MODIFIED:20210330T170701Z
LOCATION:Howard County Arts Council, 8510 High Ridge Road, Ellicott City\
 , MD
RRULE:FREQ=WEEKLY;UNTIL=20210530T075959Z;INTERVAL=1;BYDAY=SA;WKST=SU
SUMMARY:Resident Visual Artists Exhibit 2021
URL:https://www.hocoarts.org/resident-visual-artists-exhibit-2021-april-24-
 may-29-2021/
X-GBCA-NID:30136
END:VEVENT
END:VCALENDAR
