BEGIN:VCALENDAR
VERSION:2.0
PRODID:-//Date iCal v2.14-dev//NONSGML kigkonsult.se iCalcreator 2.16.6//
METHOD:PUBLISH
X-WR-CALNAME;VALUE=TEXT:Greater Baltimore Cultural Alliance
BEGIN:VTIMEZONE
TZID:America/New_York
BEGIN:STANDARD
DTSTART:20211107T020000
TZOFFSETFROM:-0400
TZOFFSETTO:-0500
TZNAME:EST
END:STANDARD
BEGIN:DAYLIGHT
DTSTART:20220313T020000
TZOFFSETFROM:-0500
TZOFFSETTO:-0400
TZNAME:EDT
END:DAYLIGHT
END:VTIMEZONE
BEGIN:VEVENT
UID:calendar.30139.field_fc_date.0@www.baltimoreculture.org
DTSTAMP:20260422T132939Z
ATTACH;FMTTYPE=image/jpeg:https://www.baltimoreculture.org/sites/default/fi
 les/event-image/2021-03-25.jpeg
CATEGORIES:,,Exhibition
CREATED:20210331T164044Z
DESCRIPTION:Out of Order Virtual Auction: Saturday, May 8 | 10 am - Saturd
 ay, May 15 | 10  pm | FREE\n\nVirtual Exhibition Link: https://OutofOrder
 2021.givesmart.com [1]\n\nOut of Order & KIDOOO Sneak Preview Event: Frida
 y, May 7 | 5 pm to 10 pm |  Ticketed ($30)\n\n\n[1] https://OutofOrder202
 1.givesmart.com
DTSTART;TZID=America/New_York:20210508T100000
DTEND;TZID=America/New_York:20210515T220000
GEO:+39.293155;-76.618815
LAST-MODIFIED:20210331T164753Z
LOCATION:Maryland Art Place, 218 W Saratoga St, Baltimore, MD
SUMMARY:Out of Order Virtual Auction
URL:https://e.givesmart.com/events/kWv/
X-GBCA-NID:30139
END:VEVENT
END:VCALENDAR
