BEGIN:VCALENDAR
VERSION:2.0
PRODID:-//Date iCal v2.14-dev//NONSGML kigkonsult.se iCalcreator 2.16.6//
METHOD:PUBLISH
X-WR-CALNAME;VALUE=TEXT:Greater Baltimore Cultural Alliance
BEGIN:VTIMEZONE
TZID:America/New_York
BEGIN:STANDARD
DTSTART:20211107T020000
TZOFFSETFROM:-0400
TZOFFSETTO:-0500
RDATE:20221106T020000
TZNAME:EST
END:STANDARD
BEGIN:DAYLIGHT
DTSTART:20220313T020000
TZOFFSETFROM:-0500
TZOFFSETTO:-0400
TZNAME:EDT
END:DAYLIGHT
END:VTIMEZONE
BEGIN:VEVENT
UID:calendar.30724.field_fc_date.0@www.baltimoreculture.org
DTSTAMP:20260425T134650Z
ATTACH;FMTTYPE=image/jpeg:https://www.baltimoreculture.org/sites/default/fi
 les/event-image/Tupacimage.jpg
CATEGORIES:Performance,
CREATED:20210902T133023Z
DESCRIPTION:Join us at the Hamilton location as the students of the Baltimo
 re Schools for  the Arts shares their tribute to Tupac Shakur through a pr
 esentation created  by them.
DTSTART;TZID=America/New_York:20211120T130000
DTEND;TZID=America/New_York:20211120T140000
GEO:+39.294554;-76.617254
LAST-MODIFIED:20210902T133225Z
LOCATION:Enoch Pratt Free Library, 400 Cathedral Street, Baltimore, MD
SUMMARY:The BSA Presents ... A Tribute to Tupac Shakur
URL:https://calendar.prattlibrary.org/event/baltimore_school_for_the_arts_p
 resents_a_tribute_to_tupac_shakur_1501#.YTBJNo5KhPY
X-GBCA-NID:30724
END:VEVENT
END:VCALENDAR
