BEGIN:VCALENDAR
VERSION:2.0
PRODID:-//Date iCal v2.14-dev//NONSGML kigkonsult.se iCalcreator 2.16.6//
METHOD:PUBLISH
X-WR-CALNAME;VALUE=TEXT:Greater Baltimore Cultural Alliance
BEGIN:VTIMEZONE
TZID:America/New_York
BEGIN:STANDARD
DTSTART:20211107T020000
TZOFFSETFROM:-0400
TZOFFSETTO:-0500
TZNAME:EST
END:STANDARD
BEGIN:DAYLIGHT
DTSTART:20220313T020000
TZOFFSETFROM:-0500
TZOFFSETTO:-0400
TZNAME:EDT
END:DAYLIGHT
END:VTIMEZONE
BEGIN:VEVENT
UID:calendar.30754.field_fc_date.0@www.baltimoreculture.org
DTSTAMP:20260424T034234Z
ATTACH;FMTTYPE=image/jpeg:https://www.baltimoreculture.org/sites/default/fi
 les/u138/ab599a58.jpg
CATEGORIES:,Exhibition
CREATED:20210909T180958Z
DESCRIPTION:This exhibition explores the 43-year friendship between artist 
 Henri Matisse  (1869-1954) and Baltimore collector Etta Cone (1870-1949). 
 More than 160  paintings, sculptures, prints, drawings, and illustrate
 d books will provide  new insights into the formation of the renowned Cone
  Collection [1], one of  the greatest collections of modern art in the Un
 ited States.\n\n\n[1] https://artbma.org/collection/modern/
DTSTART;TZID=America/New_York:20211003T100000
DTEND;TZID=America/New_York:20211003T170000
EXDATE;TZID=America/New_York:20211125T100000
EXDATE;TZID=America/New_York:20211225T100000
EXDATE;TZID=America/New_York:20220101T100000
GEO:+39.325755;-76.61944
LAST-MODIFIED:20220910T001257Z
LOCATION:Baltimore Museum of Art, 10 Art Museum Drive, Baltimore, MD
RRULE:FREQ=WEEKLY;UNTIL=20220103T095959Z;INTERVAL=1;BYDAY=SU,WE,TH,FR,SA;WK
 ST=SU
SUMMARY:A Modern Influence: Henri Matisse, Etta Cone, and Baltimore
URL:https://artbma.org/exhibition/a-modern-influence-henri-matisse-etta-con
 e-and-baltimore/
X-GBCA-NID:30754
END:VEVENT
END:VCALENDAR
