BEGIN:VCALENDAR
VERSION:2.0
PRODID:-//Date iCal v2.14-dev//NONSGML kigkonsult.se iCalcreator 2.16.6//
METHOD:PUBLISH
X-WR-CALNAME;VALUE=TEXT:Greater Baltimore Cultural Alliance
BEGIN:VTIMEZONE
TZID:America/New_York
BEGIN:STANDARD
DTSTART:20211107T020000
TZOFFSETFROM:-0400
TZOFFSETTO:-0500
TZNAME:EST
END:STANDARD
BEGIN:DAYLIGHT
DTSTART:20220313T020000
TZOFFSETFROM:-0500
TZOFFSETTO:-0400
TZNAME:EDT
END:DAYLIGHT
END:VTIMEZONE
BEGIN:VEVENT
UID:calendar.30774.field_fc_date.0@www.baltimoreculture.org
DTSTAMP:20260422T215159Z
ATTACH;FMTTYPE=image/jpeg:https://www.baltimoreculture.org/sites/default/fi
 les/u497/Couwenberg%202500.jpg
CATEGORIES:,,Exhibition
CREATED:20210913T215308Z
DESCRIPTION:UMBC's Center for Art, Design and Visual Culture [1] (CADVC) p
 resents /*Annet  Couwenberg: Sewing Circles*/, on display from September 
 30 through December  11. The exhibition presents an overview of ten years 
 of cultural research,  digital experimentation, and finished artifacts b
 y Couwenberg, who uses lace  as a primary material. Through her creations
 , the artist asks how traditional  textile construction can be modified o
 r transformed by adapting it to digital  fabrication processes.\n\n\n[1] h
 ttps://cadvc.umbc.edu/
DTSTART;TZID=America/New_York:20210930T100000
DTEND;TZID=America/New_York:20210930T170000
GEO:+39.255114;-76.711196
LAST-MODIFIED:20231130T001256Z
LOCATION:UMBC Center for Art, Design and Visual Culture, 1000 Hilltop Cir
 cle, Baltimore, MD
RRULE:FREQ=WEEKLY;UNTIL=20211212T095959Z;INTERVAL=1;BYDAY=TU,WE,TH,FR,SA;WK
 ST=SU
SUMMARY:Annet Couwenberg: Sewing Circles
URL:https://artsandculture.umbc.edu/event/annet-couwenberg-sewing-circles/2
 021-09-30/
X-GBCA-NID:30774
END:VEVENT
END:VCALENDAR
