BEGIN:VCALENDAR
VERSION:2.0
PRODID:-//Date iCal v2.14-dev//NONSGML kigkonsult.se iCalcreator 2.16.6//
METHOD:PUBLISH
X-WR-CALNAME;VALUE=TEXT:Greater Baltimore Cultural Alliance
BEGIN:VTIMEZONE
TZID:America/New_York
BEGIN:STANDARD
DTSTART:20211107T020000
TZOFFSETFROM:-0400
TZOFFSETTO:-0500
RDATE:20221106T020000
TZNAME:EST
END:STANDARD
BEGIN:DAYLIGHT
DTSTART:20220313T020000
TZOFFSETFROM:-0500
TZOFFSETTO:-0400
TZNAME:EDT
END:DAYLIGHT
END:VTIMEZONE
BEGIN:VEVENT
UID:calendar.30788.field_fc_date.0@www.baltimoreculture.org
DTSTAMP:20260423T170830Z
ATTACH;FMTTYPE=image/jpeg:https://www.baltimoreculture.org/sites/default/fi
 les/BakerInfoSessions2019_1_50_0.jpg
CATEGORIES:,
CREATED:20210914T213019Z
DESCRIPTION:Join us for a Baker Info Session, featuring a presentation fro
 m GBCA Staff  with detailed program overviews and instructions on using th
 e site. This  year, Info Sessions will take place virtually through the Z
 oom Platform. An  RSVP [1] is required in order to receive the Zoom Link. 
 Check back soon for a  presentation you can watch at your leisure.\n\nUPCO
 MING VIRTUAL INFO SESSIONS\n\nWednesday, November 3, noon - 1:30pm\n\nTu
 esday, November 9, 6pm - 7:30pm\n\nSunday, November 14, 3pm - 4:30pm\n
 \n\n[1] https://forms.gle/2R4uGmicBpRdpzEU6
DTSTART;TZID=America/New_York:20211103T120000
DTEND;TZID=America/New_York:20211103T133000
LAST-MODIFIED:20211027T152430Z
LOCATION:Virtual Event!, This event takes place online., Participate from
  Anywhere you are!, MD
SUMMARY:Baker Artist Portfolios Virtual Info Sessions
URL:https://bakerartist.org/about-us/blog/2021-2022-baker-info-sessions
X-GBCA-NID:30788
END:VEVENT
BEGIN:VEVENT
UID:calendar.30788.field_fc_date.0@www.baltimoreculture.org
DTSTAMP:20260423T170830Z
ATTACH;FMTTYPE=image/jpeg:https://www.baltimoreculture.org/sites/default/fi
 les/BakerInfoSessions2019_1_50_0.jpg
CATEGORIES:,
CREATED:20210914T213019Z
DESCRIPTION:Join us for a Baker Info Session, featuring a presentation fro
 m GBCA Staff  with detailed program overviews and instructions on using th
 e site. This  year, Info Sessions will take place virtually through the Z
 oom Platform. An  RSVP [1] is required in order to receive the Zoom Link. 
 Check back soon for a  presentation you can watch at your leisure.\n\nUPCO
 MING VIRTUAL INFO SESSIONS\n\nWednesday, November 3, noon - 1:30pm\n\nTu
 esday, November 9, 6pm - 7:30pm\n\nSunday, November 14, 3pm - 4:30pm\n
 \n\n[1] https://forms.gle/2R4uGmicBpRdpzEU6
DTSTART;TZID=America/New_York:20211109T180000
DTEND;TZID=America/New_York:20211109T193000
LAST-MODIFIED:20211027T152430Z
LOCATION:Virtual Event!, This event takes place online., Participate from
  Anywhere you are!, MD
SUMMARY:Baker Artist Portfolios Virtual Info Sessions
URL:https://bakerartist.org/about-us/blog/2021-2022-baker-info-sessions
X-GBCA-NID:30788
END:VEVENT
BEGIN:VEVENT
UID:calendar.30788.field_fc_date.0@www.baltimoreculture.org
DTSTAMP:20260423T170830Z
ATTACH;FMTTYPE=image/jpeg:https://www.baltimoreculture.org/sites/default/fi
 les/BakerInfoSessions2019_1_50_0.jpg
CATEGORIES:,
CREATED:20210914T213019Z
DESCRIPTION:Join us for a Baker Info Session, featuring a presentation fro
 m GBCA Staff  with detailed program overviews and instructions on using th
 e site. This  year, Info Sessions will take place virtually through the Z
 oom Platform. An  RSVP [1] is required in order to receive the Zoom Link. 
 Check back soon for a  presentation you can watch at your leisure.\n\nUPCO
 MING VIRTUAL INFO SESSIONS\n\nWednesday, November 3, noon - 1:30pm\n\nTu
 esday, November 9, 6pm - 7:30pm\n\nSunday, November 14, 3pm - 4:30pm\n
 \n\n[1] https://forms.gle/2R4uGmicBpRdpzEU6
DTSTART;TZID=America/New_York:20211114T150000
DTEND;TZID=America/New_York:20211114T163000
LAST-MODIFIED:20211027T152430Z
LOCATION:Virtual Event!, This event takes place online., Participate from
  Anywhere you are!, MD
SUMMARY:Baker Artist Portfolios Virtual Info Sessions
URL:https://bakerartist.org/about-us/blog/2021-2022-baker-info-sessions
X-GBCA-NID:30788
END:VEVENT
BEGIN:VEVENT
UID:calendar.30788.field_fc_date.0@www.baltimoreculture.org
DTSTAMP:20260423T170830Z
ATTACH;FMTTYPE=image/jpeg:https://www.baltimoreculture.org/sites/default/fi
 les/BakerInfoSessions2019_1_50_0.jpg
CATEGORIES:,
CREATED:20210914T213019Z
DESCRIPTION:Join us for a Baker Info Session, featuring a presentation fro
 m GBCA Staff  with detailed program overviews and instructions on using th
 e site. This  year, Info Sessions will take place virtually through the Z
 oom Platform. An  RSVP [1] is required in order to receive the Zoom Link. 
 Check back soon for a  presentation you can watch at your leisure.\n\nUPCO
 MING VIRTUAL INFO SESSIONS\n\nWednesday, November 3, noon - 1:30pm\n\nTu
 esday, November 9, 6pm - 7:30pm\n\nSunday, November 14, 3pm - 4:30pm\n
 \n\n[1] https://forms.gle/2R4uGmicBpRdpzEU6
DTSTART;TZID=America/New_York:20211122T170000
DTEND;TZID=America/New_York:20211122T183000
LAST-MODIFIED:20211027T152430Z
LOCATION:Virtual Event!, This event takes place online., Participate from
  Anywhere you are!, MD
SUMMARY:Baker Artist Portfolios Virtual Info Sessions
URL:https://bakerartist.org/about-us/blog/2021-2022-baker-info-sessions
X-GBCA-NID:30788
END:VEVENT
END:VCALENDAR
