BEGIN:VCALENDAR
VERSION:2.0
PRODID:-//Date iCal v2.14-dev//NONSGML kigkonsult.se iCalcreator 2.16.6//
METHOD:PUBLISH
X-WR-CALNAME;VALUE=TEXT:Greater Baltimore Cultural Alliance
BEGIN:VTIMEZONE
TZID:America/New_York
BEGIN:STANDARD
DTSTART:20211107T020000
TZOFFSETFROM:-0400
TZOFFSETTO:-0500
RDATE:20221106T020000
TZNAME:EST
END:STANDARD
BEGIN:DAYLIGHT
DTSTART:20220313T020000
TZOFFSETFROM:-0500
TZOFFSETTO:-0400
TZNAME:EDT
END:DAYLIGHT
END:VTIMEZONE
BEGIN:VEVENT
UID:calendar.30819.field_fc_date.0@www.baltimoreculture.org
DTSTAMP:20260422T103356Z
ATTACH;FMTTYPE=image/png:https://www.baltimoreculture.org/sites/default/fil
 es/u161/CJB%20Veteran%27s%20Day%20%281600%20x%20700%20px%29.png
CATEGORIES:,Performance
CREATED:20210924T173608Z
DESCRIPTION:The Columbia Jazz Band is back! This multimedia event will feat
 ure the  Columbia Jazz Band along with photos, news footage, and audio/v
 ideo clips  from the USO. The show will include tunes from the Count Basie
  Orchestra, Glenn Miller, and Duke Ellington Orchestras with featured  s
 elections including Strike Up the Band, Ac-Cent-Tchu-Ate the Positive, B
 oogie Woogie Bugle Boy and When I  Fall In Love.
DTSTART;TZID=America/New_York:20211107T143000
DTEND;TZID=America/New_York:20211107T160000
GEO:+39.218841;-76.873945
LAST-MODIFIED:20230215T001256Z
LOCATION:Slayton House, 10400 Cross Fox Lane, Columbia, MD
SUMMARY:Columbia Jazz Band: Veteran's Day Concert: A Musical Tribute to the
  USO
URL:http://www.columbiajazzband.org
X-GBCA-NID:30819
END:VEVENT
END:VCALENDAR
