BEGIN:VCALENDAR
VERSION:2.0
PRODID:-//Date iCal v2.14-dev//NONSGML kigkonsult.se iCalcreator 2.16.6//
METHOD:PUBLISH
X-WR-CALNAME;VALUE=TEXT:Greater Baltimore Cultural Alliance
BEGIN:VTIMEZONE
TZID:America/New_York
BEGIN:STANDARD
DTSTART:20221106T020000
TZOFFSETFROM:-0400
TZOFFSETTO:-0500
TZNAME:EST
END:STANDARD
BEGIN:DAYLIGHT
DTSTART:20220313T020000
TZOFFSETFROM:-0500
TZOFFSETTO:-0400
TZNAME:EDT
END:DAYLIGHT
END:VTIMEZONE
BEGIN:VEVENT
UID:calendar.30820.field_fc_date.0@www.baltimoreculture.org
DTSTAMP:20260424T111609Z
ATTACH;FMTTYPE=image/png:https://www.baltimoreculture.org/sites/default/fil
 es/event-image/Prom%20-%20CultureFly.png
CATEGORIES:
CREATED:20210924T182213Z
DESCRIPTION:The national tour of Broadway’s hit musical comedy, *THE PROM*
 , will play  eight shows January 18-23, 2022 at Baltimore’s Hippodrome T
 heatre at the  France-Merrick Performing Arts Center.\n\nEveryone’s invite
 d to the joyous Broadway hit! New York Magazine hails it  “smart and big-h
 earted” while The New York Times declares it “makes you  believe in musica
 l comedy again!” *THE PROM* is a new musical comedy about  big Broadway st
 ars, a small town, and a love that unites them all.
DTSTART;TZID=America/New_York:20220118T200000
DTEND;TZID=America/New_York:20220123T200000
GEO:+39.289828;-76.621628
LAST-MODIFIED:20210927T130433Z
LOCATION:Hippodrome Theatre, 12 N Eutaw Street, Baltimore, MD
RRULE:FREQ=DAILY;COUNT=1;INTERVAL=1;WKST=SU
SUMMARY:The Prom Sets Baltimore Premiere at the Hippodrome
URL:https://baltimore.broadway.com/shows/the-prom/
X-GBCA-NID:30820
END:VEVENT
END:VCALENDAR
