BEGIN:VCALENDAR
VERSION:2.0
PRODID:-//Date iCal v2.14-dev//NONSGML kigkonsult.se iCalcreator 2.16.6//
METHOD:PUBLISH
X-WR-CALNAME;VALUE=TEXT:Greater Baltimore Cultural Alliance
BEGIN:VTIMEZONE
TZID:America/New_York
BEGIN:STANDARD
DTSTART:20211107T020000
TZOFFSETFROM:-0400
TZOFFSETTO:-0500
TZNAME:EST
END:STANDARD
BEGIN:DAYLIGHT
DTSTART:20220313T020000
TZOFFSETFROM:-0500
TZOFFSETTO:-0400
TZNAME:EDT
END:DAYLIGHT
END:VTIMEZONE
BEGIN:VEVENT
UID:calendar.30852.field_fc_date.0@www.baltimoreculture.org
DTSTAMP:20260425T104021Z
ATTACH;FMTTYPE=image/jpeg:https://www.baltimoreculture.org/sites/default/fi
 les/event-image/jan-jakub-nanista-z9hvkSDWMIM-unsplash.jpg
CATEGORIES:,,
CREATED:20211002T172202Z
DESCRIPTION:Spooky Read-Aloud at The Dell for EVERYONE! There will be spook
 y stories, a  fire + good friends. Bring a blanket and a buddy.\n\nHey Fr
 iends, Partners, Supporters, and possible Press members of the Spooky  
 Read Aloud!\n\nWe are looking forward to hosting each of you, your famili
 es, neighbors, and  friends around a warm fire-pit in Wyman Park Dell lo
 cated at 2929 N Charles  St, Baltimore, MD 21218 from 7p Until 10p on Fr
 iday, October 29, 2021!
DTSTART;TZID=America/New_York:20211029T190000
DTEND;TZID=America/New_York:20211029T220000
LAST-MODIFIED:20211004T142023Z
LOCATION:Wyman Park Dell, 2929 N Charles St, Baltimore, MD
SUMMARY:Spooky Read Aloud
URL:https://www.eventbrite.com/e/spooky-read-aloud-tickets-174478037507?aff
 =ebdssbdestsearch
X-GBCA-NID:30852
END:VEVENT
END:VCALENDAR
