BEGIN:VCALENDAR
VERSION:2.0
PRODID:-//Date iCal v2.14-dev//NONSGML kigkonsult.se iCalcreator 2.16.6//
METHOD:PUBLISH
X-WR-CALNAME;VALUE=TEXT:Greater Baltimore Cultural Alliance
BEGIN:VTIMEZONE
TZID:America/New_York
BEGIN:STANDARD
DTSTART:20211107T020000
TZOFFSETFROM:-0400
TZOFFSETTO:-0500
RDATE:20221106T020000
TZNAME:EST
END:STANDARD
BEGIN:DAYLIGHT
DTSTART:20220313T020000
TZOFFSETFROM:-0500
TZOFFSETTO:-0400
TZNAME:EDT
END:DAYLIGHT
END:VTIMEZONE
BEGIN:VEVENT
UID:calendar.30865.field_fc_date.0@www.baltimoreculture.org
DTSTAMP:20260426T041031Z
ATTACH;FMTTYPE=image/jpeg:https://www.baltimoreculture.org/sites/default/fi
 les/event-image/Fires%20in%20the%20Mirror.jpg
CATEGORIES:,,History & Heritage,Nightlife,Performance,
CREATED:20211005T184030Z
DESCRIPTION:Fires in the Mirror: Crown Heights, Brooklyn and Other Identit
 ies by Pulitzer  Prize finalist Anna Deavere Smith, directed by Nicole Br
 ewer in partnership  with Long Wharf Theatre takes Baltimore Center Stage 
 Nov 27 - Dec 19! Get  your tickets now. You won’t want to miss this show!
DTSTART;TZID=America/New_York:20211127T193000
DTEND;TZID=America/New_York:20211219T220000
GEO:+39.298155;-76.613241
LAST-MODIFIED:20240130T001256Z
LOCATION:Baltimore Center Stage, 700 N. Calvert Street, Baltimore, MD
RRULE:FREQ=WEEKLY;UNTIL=20211220T095959Z;INTERVAL=1;BYDAY=SU,MO,TU,WE,TH,FR
 ,SA;WKST=SU
SUMMARY:Fires in the Mirror: Crown Heights, Brooklyn and Other Identities
URL:https://www.centerstage.org/plays-and-events/fires-in-the-mirror/
X-GBCA-NID:30865
END:VEVENT
END:VCALENDAR
