BEGIN:VCALENDAR
VERSION:2.0
PRODID:-//Date iCal v2.14-dev//NONSGML kigkonsult.se iCalcreator 2.16.6//
METHOD:PUBLISH
X-WR-CALNAME;VALUE=TEXT:Greater Baltimore Cultural Alliance
BEGIN:VTIMEZONE
TZID:America/New_York
BEGIN:STANDARD
DTSTART:20211107T020000
TZOFFSETFROM:-0400
TZOFFSETTO:-0500
RDATE:20221106T020000
TZNAME:EST
END:STANDARD
BEGIN:DAYLIGHT
DTSTART:20220313T020000
TZOFFSETFROM:-0500
TZOFFSETTO:-0400
TZNAME:EDT
END:DAYLIGHT
END:VTIMEZONE
BEGIN:VEVENT
UID:calendar.30896.field_fc_date.0@www.baltimoreculture.org
DTSTAMP:20260424T163312Z
ATTACH;FMTTYPE=image/jpeg:https://www.baltimoreculture.org/sites/default/fi
 les/u4548/11-9-21_Marcari.jpeg
CATEGORIES:,,,Lectures/ Workshops,
CREATED:20211012T235620Z
DESCRIPTION:ART SEMINAR GROUP ONLINE PROGRAM THROUGH ZOOM\n\nAn Inventive a
 nd Creating Genius: Drawings by Giovanni Battista Piranesi\n\nJohn Marciar
 i, curatorial chair, Morgan Library & Museum
DTSTART;TZID=America/New_York:20211109T133000
DTEND;TZID=America/New_York:20211109T150000
LAST-MODIFIED:20230930T001256Z
LOCATION:Virtual Event!, This event takes place online., Participate from
  Anywhere you are!, MD
SUMMARY:WEBINAR: John Marciari, 'An Inventive and Creating Genius: Drawing
 s by  Giovanni Battista Piranesi'
URL:https://www.artseminargroup.org/events/john-marciari-an-inventive-and-c
 reating-genius-drawings-by-giovanni-battista-piranesi
X-GBCA-NID:30896
END:VEVENT
END:VCALENDAR
