BEGIN:VCALENDAR
VERSION:2.0
PRODID:-//Date iCal v2.14-dev//NONSGML kigkonsult.se iCalcreator 2.16.6//
METHOD:PUBLISH
X-WR-CALNAME;VALUE=TEXT:Greater Baltimore Cultural Alliance
BEGIN:VTIMEZONE
TZID:America/New_York
BEGIN:STANDARD
DTSTART:20211107T020000
TZOFFSETFROM:-0400
TZOFFSETTO:-0500
RDATE:20221106T020000
TZNAME:EST
END:STANDARD
BEGIN:DAYLIGHT
DTSTART:20220313T020000
TZOFFSETFROM:-0500
TZOFFSETTO:-0400
TZNAME:EDT
END:DAYLIGHT
END:VTIMEZONE
BEGIN:VEVENT
UID:calendar.30934.field_fc_date.0@www.baltimoreculture.org
DTSTAMP:20260424T100349Z
ATTACH;FMTTYPE=image/jpeg:https://www.baltimoreculture.org/sites/default/fi
 les/u145/ChristophKoenig_Conductor_Download1_RESIZE_1.jpg
CATEGORIES:,Performance
CREATED:20211021T165755Z
DESCRIPTION:German conductor Christoph König returns to lead the BSO in Ric
 hard  Strauss’ thrilling and iconic tone poem /Also sprach Zarathustra/. S
 trauss'  enigmatic masterpiece is revealed as a contemplation on human evo
 lution.
DTSTART;TZID=America/New_York:20211106T190000
DTEND;TZID=America/New_York:20211106T203000
LAST-MODIFIED:20240130T001256Z
LOCATION:Joseph Meyerhoff Symphony Hall, 1212 Cathedral Street, Baltimore
 , MD
SUMMARY:BSO Presents Off The Cuff: Also sprach Zarathustra
URL:https://my.bsomusic.org/overview/16916
X-GBCA-NID:30934
END:VEVENT
END:VCALENDAR
