BEGIN:VCALENDAR
VERSION:2.0
PRODID:-//Date iCal v2.14-dev//NONSGML kigkonsult.se iCalcreator 2.16.6//
METHOD:PUBLISH
X-WR-CALNAME;VALUE=TEXT:Greater Baltimore Cultural Alliance
BEGIN:VTIMEZONE
TZID:America/New_York
BEGIN:STANDARD
DTSTART:20211107T020000
TZOFFSETFROM:-0400
TZOFFSETTO:-0500
TZNAME:EST
END:STANDARD
BEGIN:DAYLIGHT
DTSTART:20220313T020000
TZOFFSETFROM:-0500
TZOFFSETTO:-0400
TZNAME:EDT
END:DAYLIGHT
END:VTIMEZONE
BEGIN:VEVENT
UID:calendar.30971.field_fc_date.0@www.baltimoreculture.org
DTSTAMP:20260423T202149Z
ATTACH;FMTTYPE=image/png:https://www.baltimoreculture.org/sites/default/fil
 es/u163/Webp.net-resizeimage_2.png
CATEGORIES:,,,,Lectures/ Workshops
CREATED:20211101T165300Z
DESCRIPTION:Elder Ensemble Workshops on various aspects of theater making a
 nd performance  art: vocal performance and training, dance, and acting.
 \n\nDo you enjoy being creative? Have a love for performing?\n\nThe Dance 
 & Bmore Elder Ensemble could be the group for you. Dance & Bmore  uses cre
 ative storytelling, movement, music, and theater to engage audiences  o
 f every age and stage of life.\n\nDates: Monthly on the first Wednesday.
DTSTART;TZID=America/New_York:20211103T130000
DTEND;TZID=America/New_York:20211103T140000
GEO:+39.301182;-76.618039
LAST-MODIFIED:20220119T000316Z
LOCATION:Waxter Center, 1000 Cathedral Street, Baltimore, MD
RRULE:FREQ=MONTHLY;UNTIL=20220407T075959Z;INTERVAL=1;BYDAY=+1WE;BYMONTH=1,2
 ,3,4,11,12;WKST=SU
SUMMARY:Elder Ensemble Monthly Workshop Series
URL:danceandbmore.com
X-GBCA-NID:30971
END:VEVENT
END:VCALENDAR
