BEGIN:VCALENDAR
VERSION:2.0
PRODID:-//Date iCal v2.14-dev//NONSGML kigkonsult.se iCalcreator 2.16.6//
METHOD:PUBLISH
X-WR-CALNAME;VALUE=TEXT:Greater Baltimore Cultural Alliance
BEGIN:VTIMEZONE
TZID:America/New_York
BEGIN:STANDARD
DTSTART:20211107T020000
TZOFFSETFROM:-0400
TZOFFSETTO:-0500
RDATE:20221106T020000
TZNAME:EST
END:STANDARD
BEGIN:DAYLIGHT
DTSTART:20220313T020000
TZOFFSETFROM:-0500
TZOFFSETTO:-0400
TZNAME:EDT
END:DAYLIGHT
END:VTIMEZONE
BEGIN:VEVENT
UID:calendar.31003.field_fc_date.0@www.baltimoreculture.org
DTSTAMP:20260423T095451Z
ATTACH;FMTTYPE=image/png:https://www.baltimoreculture.org/sites/default/fil
 es/quanice.png
CATEGORIES:,,,Lectures/ Workshops
CREATED:20211109T171801Z
DESCRIPTION:Join us for a day of insightful and compelling experiences to d
 eepen your  understanding of anti-racism and abolitionist teaching in arts
  education  including breakout sessions on racial equity facilitation, sm
 all group  affinity spaces, and arts education content breakouts that add
 ress national  trends that may affect your classroom. This symposium is pr
 oduced in  partnership with Baltimore Corps. Register by Monday, Nov. 8th
  for automatic  eligibility to enter the raffle to win $100. Winner to be 
 announced during  the symposium.
DTSTART;TZID=America/New_York:20211113T100000
DTEND;TZID=America/New_York:20211113T163000
LAST-MODIFIED:20211109T171801Z
LOCATION:Virtual Event!, This event takes place online., Participate from
  Anywhere you are!, MD
SUMMARY:2021 Arts Education Symposium on Anti-Racism
URL:https://aems-edu.networkforgood.com/events/33657-2021-arts-education-sy
 mposium-on-anti-racism
X-GBCA-NID:31003
END:VEVENT
END:VCALENDAR
