BEGIN:VCALENDAR
VERSION:2.0
PRODID:-//Date iCal v2.14-dev//NONSGML kigkonsult.se iCalcreator 2.16.6//
METHOD:PUBLISH
X-WR-CALNAME;VALUE=TEXT:Greater Baltimore Cultural Alliance
BEGIN:VTIMEZONE
TZID:America/New_York
BEGIN:STANDARD
DTSTART:20211107T020000
TZOFFSETFROM:-0400
TZOFFSETTO:-0500
RDATE:20221106T020000
TZNAME:EST
END:STANDARD
BEGIN:DAYLIGHT
DTSTART:20220313T020000
TZOFFSETFROM:-0500
TZOFFSETTO:-0400
TZNAME:EDT
END:DAYLIGHT
END:VTIMEZONE
BEGIN:VEVENT
UID:calendar.31057.field_fc_date.0@www.baltimoreculture.org
DTSTAMP:20260425T172050Z
ATTACH;FMTTYPE=image/jpeg:https://www.baltimoreculture.org/sites/default/fi
 les/unnamed%20%289%29_0.jpg
CATEGORIES:,,
CREATED:20211130T164029Z
DESCRIPTION:Join us on Sunday, December 5, 2021 at 1 p.m. for the Mayor’s
  Christmas  Parade. Sponsored by community associations and businesses in 
 North  Baltimore’s Hampden and Medfield neighborhoods. If you are interest
 ed in  volunteering, please contact Tom Kerr at 410-366-0726.
DTSTART;TZID=America/New_York:20211205T130000
DTEND;TZID=America/New_York:20211205T160000
LAST-MODIFIED:20211130T164029Z
LOCATION:Hampden, 36th St. from Falls Rd. - Chestnut Ave., Baltimore, MD
SUMMARY:2021 Mayor's Christmas Parade
URL:http://www.mayorschristmasparade.net/
X-GBCA-NID:31057
END:VEVENT
END:VCALENDAR
