BEGIN:VCALENDAR
VERSION:2.0
PRODID:-//Date iCal v2.14-dev//NONSGML kigkonsult.se iCalcreator 2.16.6//
METHOD:PUBLISH
X-WR-CALNAME;VALUE=TEXT:Greater Baltimore Cultural Alliance
BEGIN:VTIMEZONE
TZID:America/New_York
BEGIN:STANDARD
DTSTART:20221106T020000
TZOFFSETFROM:-0400
TZOFFSETTO:-0500
TZNAME:EST
END:STANDARD
BEGIN:DAYLIGHT
DTSTART:20220313T020000
TZOFFSETFROM:-0500
TZOFFSETTO:-0400
TZNAME:EDT
END:DAYLIGHT
END:VTIMEZONE
BEGIN:VEVENT
UID:calendar.31084.field_fc_date.0@www.baltimoreculture.org
DTSTAMP:20260423T151326Z
ATTACH;FMTTYPE=image/jpeg:https://www.baltimoreculture.org/sites/default/fi
 les/u162/ColumbiaProCantare_4.jpg
CATEGORIES:,
CREATED:20211214T172851Z
DTSTART;TZID=America/New_York:20211219T150000
DTEND;TZID=America/New_York:20211219T163000
GEO:+39.184135;-76.828182
LAST-MODIFIED:20240113T001256Z
LOCATION:Christ Episcopal Church, Columbia, MD, 6800 Oakland Mills Rd, 
 Columbia, MD
SUMMARY:Columbia Pro Cantare Chamber Singers: A Christmas Noel
URL:https://www.procantare.org
X-GBCA-NID:31084
END:VEVENT
END:VCALENDAR
