BEGIN:VCALENDAR
VERSION:2.0
PRODID:-//Date iCal v2.14-dev//NONSGML kigkonsult.se iCalcreator 2.16.6//
METHOD:PUBLISH
X-WR-CALNAME;VALUE=TEXT:Greater Baltimore Cultural Alliance
BEGIN:VTIMEZONE
TZID:America/New_York
BEGIN:STANDARD
DTSTART:20221106T020000
TZOFFSETFROM:-0400
TZOFFSETTO:-0500
TZNAME:EST
END:STANDARD
BEGIN:DAYLIGHT
DTSTART:20220313T020000
TZOFFSETFROM:-0500
TZOFFSETTO:-0400
TZNAME:EDT
END:DAYLIGHT
END:VTIMEZONE
BEGIN:VEVENT
UID:calendar.31121.field_fc_date.0@www.baltimoreculture.org
DTSTAMP:20260425T131517Z
ATTACH;FMTTYPE=image/jpeg:https://www.baltimoreculture.org/sites/default/fi
 les/jukebox.JPG
CATEGORIES:,Performance
CREATED:20220107T161827Z
DESCRIPTION:For 45 years he has held the drum chair behind Bruce Springstee
 n & The E  Street band, playing before millions around the world. While a
 nchoring the  house band for Late Night with Conan O’Brien for 17 years, 
 Max enjoyed  expanding his role as band leader and resident music historia
 n. Max  Weinberg’s Jukebox comes armed with an unlimited repertoire of cla
 ssic  songs, engaging the audience in a truly interactive concert experie
 nce.  Weinberg invites his fans to create the set list in real time and hi
 s crack  four piece group plays the songs on demand.
DTSTART;TZID=America/New_York:20220115T200000
DTEND;TZID=America/New_York:20220115T213000
GEO:+39.445915;-76.770687
LAST-MODIFIED:20220107T161827Z
LOCATION:Gordon Center For Performing Arts, 3506 Gwynnbrook Ave, Owings M
 ills, MD
SUMMARY:Max Weinberg’s Jukebox
URL:https://www.jcc.org/gordon-center/event/max-weinberg%E2%80%99s-jukebox
X-GBCA-NID:31121
END:VEVENT
END:VCALENDAR
