BEGIN:VCALENDAR
VERSION:2.0
PRODID:-//Date iCal v2.14-dev//NONSGML kigkonsult.se iCalcreator 2.16.6//
METHOD:PUBLISH
X-WR-CALNAME;VALUE=TEXT:Greater Baltimore Cultural Alliance
BEGIN:VTIMEZONE
TZID:America/New_York
BEGIN:STANDARD
DTSTART:20221106T020000
TZOFFSETFROM:-0400
TZOFFSETTO:-0500
TZNAME:EST
END:STANDARD
BEGIN:DAYLIGHT
DTSTART:20220313T020000
TZOFFSETFROM:-0500
TZOFFSETTO:-0400
TZNAME:EDT
END:DAYLIGHT
END:VTIMEZONE
BEGIN:VEVENT
UID:calendar.31126.field_fc_date.0@www.baltimoreculture.org
DTSTAMP:20260425T163357Z
ATTACH;FMTTYPE=image/jpeg:https://www.baltimoreculture.org/sites/default/fi
 les/GettyImages-614055202-508384435-1525975955560-e1586799701678-300x200_0
 .jpg
CATEGORIES:,
CREATED:20220107T171612Z
DESCRIPTION:Be a Buyer | January 20, 6 pm via Zoom Attend our online Be a 
 Buyer Workshop and learn everything you need to know  as you embark on you
 r homeownership journey. This class meets the Be a Buyer  Workshop require
 ment for our $5,000 Dundalk-wide Home Buyer grant.
DTSTART;TZID=America/New_York:20220120T180000
DTEND;TZID=America/New_York:20220120T190000
LAST-MODIFIED:20220107T171612Z
LOCATION:Virtual Event!, This event takes place online., Participate from
  Anywhere you are!, MD
SUMMARY:Be a Buyer Workshop
URL:https://www.dundalkusa.org/
X-GBCA-NID:31126
END:VEVENT
END:VCALENDAR
