BEGIN:VCALENDAR
VERSION:2.0
PRODID:-//Date iCal v2.14-dev//NONSGML kigkonsult.se iCalcreator 2.16.6//
METHOD:PUBLISH
X-WR-CALNAME;VALUE=TEXT:Greater Baltimore Cultural Alliance
BEGIN:VTIMEZONE
TZID:America/New_York
BEGIN:STANDARD
DTSTART:20221106T020000
TZOFFSETFROM:-0400
TZOFFSETTO:-0500
TZNAME:EST
END:STANDARD
BEGIN:DAYLIGHT
DTSTART:20220313T020000
TZOFFSETFROM:-0500
TZOFFSETTO:-0400
TZNAME:EDT
END:DAYLIGHT
END:VTIMEZONE
BEGIN:VEVENT
UID:calendar.31130.field_fc_date.0@www.baltimoreculture.org
DTSTAMP:20260424T154952Z
ATTACH;FMTTYPE=image/jpeg:https://www.baltimoreculture.org/sites/default/fi
 les/event-image/CultureFlyMuchAdo.jpg
CATEGORIES:
CREATED:20220110T212831Z
DESCRIPTION:MUCH ADO ABOUT NOTHING\n\nwritten by William Shakespeare edited
  & adapted by Michael Blum directed by Michael Blum stage managed by Mark 
 Merryfield\n\nPerformance Dates: Jan 21 - Feb 6, 2022\n\nFri: Jan 21, 28
 , Feb 4 - 8:00pm Sat: Jan 22, 29, Feb 5 - 8:00pm Sun: Jan 23, 30, Feb
  6 - 2:00pm
DTSTART;TZID=America/New_York:20220121T200000
DTEND;TZID=America/New_York:20220121T223000
GEO:+39.299417;-76.613838
LAST-MODIFIED:20220111T144920Z
LOCATION:Spotlighters Theatre, 817 Saint Paul Street, Baltimore, MD
RRULE:FREQ=WEEKLY;UNTIL=20220207T095959Z;INTERVAL=1;BYDAY=FR,SA;WKST=SU
SUMMARY:Much Ado About Nothing
URL:https://www.spotlighters.org/on-stage
X-GBCA-NID:31130
END:VEVENT
END:VCALENDAR
