BEGIN:VCALENDAR
VERSION:2.0
PRODID:-//Date iCal v2.14-dev//NONSGML kigkonsult.se iCalcreator 2.16.6//
METHOD:PUBLISH
X-WR-CALNAME;VALUE=TEXT:Greater Baltimore Cultural Alliance
BEGIN:VTIMEZONE
TZID:America/New_York
BEGIN:STANDARD
DTSTART:20221106T020000
TZOFFSETFROM:-0400
TZOFFSETTO:-0500
TZNAME:EST
END:STANDARD
BEGIN:DAYLIGHT
DTSTART:20220313T020000
TZOFFSETFROM:-0500
TZOFFSETTO:-0400
TZNAME:EDT
END:DAYLIGHT
END:VTIMEZONE
BEGIN:VEVENT
UID:calendar.31252.field_fc_date.0@www.baltimoreculture.org
DTSTAMP:20260423T222352Z
ATTACH;FMTTYPE=image/jpeg:https://www.baltimoreculture.org/sites/default/fi
 les/u4548/2-22-22_Aneta%204%20-%201024px-Le_Garc%CC%A7on_au_gilet_rouge%2C
 _par_Paul_Ce%CC%81zanne%2C_National_Gallery_of_Art_0.jpeg
CATEGORIES:,,Lectures/ Workshops,
CREATED:20220214T150137Z
DESCRIPTION:ART SEMINAR GROUP IN-PERSON LECTURE (ALSO AVAILABLE ONLINE THRO
 UGH ZOOM)\n\nCézanne and Nature - Change and Permanence\n\nAneta Georgievs
 ka-Shine, professor of art history, University of Maryland\n\nVenue: Cen
 tral Presbyterian Church 7308 York Road Towson, MD, 21204\n\nLecture fou
 r in a five-part series: Paul Cézanne and the Art of Seeing
DTSTART;TZID=America/New_York:20220222T110000
DTEND;TZID=America/New_York:20220222T121500
LAST-MODIFIED:20230930T001256Z
LOCATION:Central Presbyterian Church, 7308 York Rd, Towson, MD
SUMMARY:LECTURE: Aneta Georgievska-Shine, 'Cézanne and Nature - Change and
   Permanence'
URL:https://www.artseminargroup.org/events/lecture-aneta-georgievska-shine-
 czanne-and-nature-change-and-permanence
X-GBCA-NID:31252
END:VEVENT
END:VCALENDAR
