BEGIN:VCALENDAR
VERSION:2.0
PRODID:-//Date iCal v2.14-dev//NONSGML kigkonsult.se iCalcreator 2.16.6//
METHOD:PUBLISH
X-WR-CALNAME;VALUE=TEXT:Greater Baltimore Cultural Alliance
BEGIN:VTIMEZONE
TZID:America/New_York
BEGIN:STANDARD
DTSTART:20221106T020000
TZOFFSETFROM:-0400
TZOFFSETTO:-0500
TZNAME:EST
END:STANDARD
BEGIN:DAYLIGHT
DTSTART:20230312T020000
TZOFFSETFROM:-0500
TZOFFSETTO:-0400
TZNAME:EDT
END:DAYLIGHT
END:VTIMEZONE
BEGIN:VEVENT
UID:calendar.31333.field_fc_date.0@www.baltimoreculture.org
DTSTAMP:20260424T181449Z
ATTACH;FMTTYPE=image/png:https://www.baltimoreculture.org/sites/default/fil
 es/event-image/customeSizeBanner%20%281%29.png
CATEGORIES:,,,Exhibition,,,,,,,,,Professional Development,,Le
 ctures/ Workshops
CREATED:20220303T165837Z
DESCRIPTION:Whether you love science with your fiction or costumes with you
 r books, we do  too! While our central theme is writing, literature, an
 d authors, our dynamic  program has something everyone can appreciate. Jo
 in over fifteen hundred fans  of all backgrounds as we gather to celebrate
  Science Fiction and Fantasy with  more than 300 hours of diverse programm
 ing, from award-winning authors and  publishers to twitch live-streamers\
 , from cosplay experts to renowned  scientists and tech innovators.
DTSTART;VALUE=DATE:20220527
DTEND;VALUE=DATE:20220531
LAST-MODIFIED:20220320T154442Z
LOCATION:Renaissance Baltimore Harborplace Hotel, 202 E Pratt St, Baltimo
 re, MD
SUMMARY:Balticon 56
URL:https://www.balticon.org/
X-GBCA-NID:31333
END:VEVENT
END:VCALENDAR
