BEGIN:VCALENDAR
VERSION:2.0
PRODID:-//Date iCal v2.14-dev//NONSGML kigkonsult.se iCalcreator 2.16.6//
METHOD:PUBLISH
X-WR-CALNAME;VALUE=TEXT:Greater Baltimore Cultural Alliance
BEGIN:VTIMEZONE
TZID:America/New_York
BEGIN:STANDARD
DTSTART:20221106T020000
TZOFFSETFROM:-0400
TZOFFSETTO:-0500
TZNAME:EST
END:STANDARD
BEGIN:DAYLIGHT
DTSTART:20230312T020000
TZOFFSETFROM:-0500
TZOFFSETTO:-0400
TZNAME:EDT
END:DAYLIGHT
END:VTIMEZONE
BEGIN:VEVENT
UID:calendar.31491.field_fc_date.0@www.baltimoreculture.org
DTSTAMP:20260424T074949Z
ATTACH;FMTTYPE=image/png:https://www.baltimoreculture.org/sites/default/fil
 es/Thinkathon%20Banner%203.22.22-02.png
CATEGORIES:,,,,
CREATED:20220331T181743Z
DESCRIPTION:Maryland Institute College of Art (MICA) and Greater Baltimore 
 Cultural  Alliance (GBCA) invite you to the ninth Baltimore Thinkathon, a
  “think and  do” event with artists, cultural activists, community leade
 rs, scholars and  funders. It is a half-day of collaborations, generatin
 g innovations and  strategies with fellow thinkers and doers who work acro
 ss the city and  beyond. We don’t just talk—we have a history of jumpstart
 ing both short  and long-term actions. Our theme this year is Art and Equi
 ty.
DTSTART;TZID=America/New_York:20220421T093000
DTEND;TZID=America/New_York:20220421T123000
LAST-MODIFIED:20251231T001256Z
LOCATION:Virtual Event!, This event takes place online., Participate from
  Anywhere you are!, MD
SUMMARY:9th Annual Baltimore Thinkathon
URL:https://mica-edu.zoom.us/meeting/register/tJErfuCvrT4sGdMaqytDnz6tcz2qV
 ApOGoaC
X-GBCA-NID:31491
END:VEVENT
END:VCALENDAR
