BEGIN:VCALENDAR
VERSION:2.0
PRODID:-//Date iCal v2.14-dev//NONSGML kigkonsult.se iCalcreator 2.16.6//
METHOD:PUBLISH
X-WR-CALNAME;VALUE=TEXT:Greater Baltimore Cultural Alliance
BEGIN:VTIMEZONE
TZID:America/New_York
BEGIN:STANDARD
DTSTART:20221106T020000
TZOFFSETFROM:-0400
TZOFFSETTO:-0500
TZNAME:EST
END:STANDARD
BEGIN:DAYLIGHT
DTSTART:20230312T020000
TZOFFSETFROM:-0500
TZOFFSETTO:-0400
TZNAME:EDT
END:DAYLIGHT
END:VTIMEZONE
BEGIN:VEVENT
UID:calendar.31546.field_fc_date.0@www.baltimoreculture.org
DTSTAMP:20260423T135825Z
ATTACH;FMTTYPE=image/jpeg:https://www.baltimoreculture.org/sites/default/fi
 les/event-image/51277587.jpg
CATEGORIES:,,Performance
CREATED:20220413T152512Z
DESCRIPTION:British cellist Steven Isserlis frequently appears with the wor
 ld’s leading  orchestras and conductors, including the Berlin Philharmoni
 c, National  Symphony Orchestra Washington, London Philharmonic, and Zu
 rich Tonhalle. He  is also a children’s book author, publishing “Why Beet
 hoven Threw the  Stew” and “Why Handel Waggled His Wig” in 2006. Pianist M
 ishka Rushdie  Momen will accompany Steven Isserlis.
DTSTART;TZID=America/New_York:20220605T150000
DTEND;TZID=America/New_York:20220605T170000
GEO:+39.214008;-76.879429
LAST-MODIFIED:20220414T145557Z
LOCATION:Horowitz Center Smith Theatre, 10901 Little Patuxent Parkway, Co
 lumbia, MD
SUMMARY:Candlelight Concert Society’s Steven Isserlis & Mishka Rushdie Mome
 n
URL:https://candlelightconcerts.org/events/steven-isserlis-cello-mishka-mom
 en-piano/
X-GBCA-NID:31546
END:VEVENT
END:VCALENDAR
