BEGIN:VCALENDAR
VERSION:2.0
PRODID:-//Date iCal v2.14-dev//NONSGML kigkonsult.se iCalcreator 2.16.6//
METHOD:PUBLISH
X-WR-CALNAME;VALUE=TEXT:Greater Baltimore Cultural Alliance
BEGIN:VTIMEZONE
TZID:America/New_York
BEGIN:STANDARD
DTSTART:20221106T020000
TZOFFSETFROM:-0400
TZOFFSETTO:-0500
TZNAME:EST
END:STANDARD
BEGIN:DAYLIGHT
DTSTART:20230312T020000
TZOFFSETFROM:-0500
TZOFFSETTO:-0400
TZNAME:EDT
END:DAYLIGHT
END:VTIMEZONE
BEGIN:VEVENT
UID:calendar.31566.field_fc_date.0@www.baltimoreculture.org
DTSTAMP:20260423T221930Z
ATTACH;FMTTYPE=image/jpeg:https://www.baltimoreculture.org/sites/default/fi
 les/u147/60953e88051b04b675d3ad84_Desdemona%20downsize.jpg
CATEGORIES:,Performance,
CREATED:20220420T203441Z
DESCRIPTION:/*Othello*/\n\n*IN Series June 14 & 15*\n\nExperience an audaci
 ous deconstruction and reimagining of Shakespeare's play  OTHELLO as told 
 through the music of Verdi.\n\nPoet and scholar Andrew Albin has crafted a
  sung English text that restores  Shakespeare's words to the opera, exper
 ienced here as an intimate and  visceral piece of theater directed by Timo
 thy Nelson.
DTSTART;TZID=America/New_York:20220614T193000
DTEND;TZID=America/New_York:20220614T220000
GEO:+39.304254;-76.618327
LAST-MODIFIED:20230930T001256Z
LOCATION:Theatre Project, 45 West Preston Street, Baltimore, MD
SUMMARY:Othello
URL:https://www.theatreproject.org/desdemona-othello/
X-GBCA-NID:31566
END:VEVENT
BEGIN:VEVENT
UID:calendar.31566.field_fc_date.0@www.baltimoreculture.org
DTSTAMP:20260423T221930Z
ATTACH;FMTTYPE=image/jpeg:https://www.baltimoreculture.org/sites/default/fi
 les/u147/60953e88051b04b675d3ad84_Desdemona%20downsize.jpg
CATEGORIES:,Performance,
CREATED:20220420T203441Z
DESCRIPTION:/*Othello*/\n\n*IN Series June 14 & 15*\n\nExperience an audaci
 ous deconstruction and reimagining of Shakespeare's play  OTHELLO as told 
 through the music of Verdi.\n\nPoet and scholar Andrew Albin has crafted a
  sung English text that restores  Shakespeare's words to the opera, exper
 ienced here as an intimate and  visceral piece of theater directed by Timo
 thy Nelson.
DTSTART;TZID=America/New_York:20220615T193000
DTEND;TZID=America/New_York:20220615T220000
GEO:+39.304254;-76.618327
LAST-MODIFIED:20230930T001256Z
LOCATION:Theatre Project, 45 West Preston Street, Baltimore, MD
SUMMARY:Othello
URL:https://www.theatreproject.org/desdemona-othello/
X-GBCA-NID:31566
END:VEVENT
END:VCALENDAR
