BEGIN:VCALENDAR
VERSION:2.0
PRODID:-//Date iCal v2.14-dev//NONSGML kigkonsult.se iCalcreator 2.16.6//
METHOD:PUBLISH
X-WR-CALNAME;VALUE=TEXT:Greater Baltimore Cultural Alliance
BEGIN:VTIMEZONE
TZID:America/New_York
BEGIN:STANDARD
DTSTART:20221106T020000
TZOFFSETFROM:-0400
TZOFFSETTO:-0500
TZNAME:EST
END:STANDARD
BEGIN:DAYLIGHT
DTSTART:20230312T020000
TZOFFSETFROM:-0500
TZOFFSETTO:-0400
TZNAME:EDT
END:DAYLIGHT
END:VTIMEZONE
BEGIN:VEVENT
UID:calendar.31687.field_fc_date.0@www.baltimoreculture.org
DTSTAMP:20260423T015456Z
ATTACH;FMTTYPE=image/jpeg:https://www.baltimoreculture.org/sites/default/fi
 les/event-image/National%20Capital%20Brass%20Band%201.jpg
CATEGORIES:,Lectures/ Workshops,,,,,Performance
CREATED:20220519T184304Z
DESCRIPTION:The Salvation Army Band, comprised of 36 brass instrument play
 ers, will be  performing classics, gospels and melodious brass tunes tha
 t will get you  dancing from your seat. The performance will take place at
  the Inner Harbor  Amphitheater (200 East Pratt Street, Baltimore, MD) f
 rom noon to 1 p.m. This  free concert is family friendly and open to the p
 ublic. Learn more about this  event at www.sa-md.org [1]\n\n\n[1] http://w
 ww.sa-md.org
DTSTART;VALUE=DATE:20220521
DTEND;VALUE=DATE:20220522
LAST-MODIFIED:20220523T173219Z
LOCATION:Inner Harbor Amphitheater, 200 East Pratt Street, Baltimore, MD
SUMMARY:Salvation Army Band Performs at Inner Harbor Amphitheater-FREE SHOW
URL:www.sa-md.org
X-GBCA-NID:31687
END:VEVENT
END:VCALENDAR
