BEGIN:VCALENDAR
VERSION:2.0
PRODID:-//Date iCal v2.14-dev//NONSGML kigkonsult.se iCalcreator 2.16.6//
METHOD:PUBLISH
X-WR-CALNAME;VALUE=TEXT:Greater Baltimore Cultural Alliance
BEGIN:VTIMEZONE
TZID:America/New_York
BEGIN:STANDARD
DTSTART:20221106T020000
TZOFFSETFROM:-0400
TZOFFSETTO:-0500
TZNAME:EST
END:STANDARD
BEGIN:DAYLIGHT
DTSTART:20230312T020000
TZOFFSETFROM:-0500
TZOFFSETTO:-0400
TZNAME:EDT
END:DAYLIGHT
END:VTIMEZONE
BEGIN:VEVENT
UID:calendar.31697.field_fc_date.0@www.baltimoreculture.org
DTSTAMP:20260422T111452Z
ATTACH;FMTTYPE=image/jpeg:https://www.baltimoreculture.org/sites/default/fi
 les/event-image/highschoolmusicalculturefly.jpg
CATEGORIES:
CREATED:20220521T213209Z
DESCRIPTION:*COURT JESTERS YOUNG PEOPLE'S THEATRE Disney’s High School Musi
 ca*l Book by David Simpatico Songs by Matthew Gerrard and Robbie Nevil; R
 ay Cham, Greg Cham and Andrew  Seeley; Randy Petersen and Kevin Quinn; 
 Andy Dodd and Adam Watts; Bryan  Louiselle; David N. Lawrence and Faye G
 reenberg; Jamie Houston Music Adapted, Arranged and Produced by Bryan Lo
 uiselle Based on a Disney Channel Original Movie Written by Peter Barsocch
 ini
DTSTART;TZID=America/New_York:20220708T190000
DTEND;TZID=America/New_York:20220708T210000
GEO:+39.353531;-76.482296
LAST-MODIFIED:20220523T173219Z
LOCATION:Cockpit In Court Summer Theatre at CCBC Essex, 7201 Rossville Blv
 d, Baltimore, MD
RRULE:FREQ=WEEKLY;UNTIL=20220718T075959Z;INTERVAL=3;BYDAY=SU,TU,WE,TH,FR,SA
 ;WKST=SU
SUMMARY:Disney's High School Musical
URL:https://www.ccbcmd.edu/calendar/event/High-School-Musical--4
X-GBCA-NID:31697
END:VEVENT
END:VCALENDAR
