BEGIN:VCALENDAR
VERSION:2.0
PRODID:-//Date iCal v2.14-dev//NONSGML kigkonsult.se iCalcreator 2.16.6//
METHOD:PUBLISH
X-WR-CALNAME;VALUE=TEXT:Greater Baltimore Cultural Alliance
BEGIN:VTIMEZONE
TZID:America/New_York
BEGIN:STANDARD
DTSTART:20221106T020000
TZOFFSETFROM:-0400
TZOFFSETTO:-0500
TZNAME:EST
END:STANDARD
BEGIN:DAYLIGHT
DTSTART:20230312T020000
TZOFFSETFROM:-0500
TZOFFSETTO:-0400
TZNAME:EDT
END:DAYLIGHT
END:VTIMEZONE
BEGIN:VEVENT
UID:calendar.31739.field_fc_date.0@www.baltimoreculture.org
DTSTAMP:20260424T023314Z
ATTACH;FMTTYPE=image/png:https://www.baltimoreculture.org/sites/default/fil
 es/event-image/postcard_front_back_composite.png
CATEGORIES:,,,Performance
CREATED:20220529T151432Z
DESCRIPTION:Baltimore Jazz Alliance is thrilled to announce the lineup for 
 this year’s  FREE Father’s Day event – Baltimore Jazz Fest 2022. Bringing 
 together  some of the area’s most amazing jazz artists and word artists, 
 we promise a  show unlike anything else! Wordsmith, Baltimore Jazz Collec
 tive, The 5th L,   Ray Winder, The Jogo Project, Andrea Brachfeld, Th
 e Aaron Hill Trio,  Keith Romeno Snipes, the Colesville Collective, and
  the Baltimore Youth  Poetry League – and that’s just the stage!\n\nAll th
 at, plus activities for kids, vendors of all kinds, and no entrance  fe
 e!
DTSTART;TZID=America/New_York:20220619T130000
DTEND;TZID=America/New_York:20220619T190000
GEO:+39.324824;-76.608762
LAST-MODIFIED:20220531T133053Z
LOCATION:St. John's in the Village, 3009 Greenmount Ave., Baltimore, MD
SUMMARY:Baltimore Jazz Fest
URL:https://baltimorejazzfest.com/
X-GBCA-NID:31739
END:VEVENT
END:VCALENDAR
