BEGIN:VCALENDAR
VERSION:2.0
PRODID:-//Date iCal v2.14-dev//NONSGML kigkonsult.se iCalcreator 2.16.6//
METHOD:PUBLISH
X-WR-CALNAME;VALUE=TEXT:Greater Baltimore Cultural Alliance
BEGIN:VTIMEZONE
TZID:America/New_York
BEGIN:STANDARD
DTSTART:20221106T020000
TZOFFSETFROM:-0400
TZOFFSETTO:-0500
TZNAME:EST
END:STANDARD
BEGIN:DAYLIGHT
DTSTART:20230312T020000
TZOFFSETFROM:-0500
TZOFFSETTO:-0400
TZNAME:EDT
END:DAYLIGHT
END:VTIMEZONE
BEGIN:VEVENT
UID:calendar.31917.field_fc_date.0@www.baltimoreculture.org
DTSTAMP:20260424T113836Z
ATTACH;FMTTYPE=image/png:https://www.baltimoreculture.org/sites/default/fil
 es/childrensfilmfest.png
CATEGORIES:
CREATED:20220802T170554Z
DESCRIPTION:Our first films of the year are here! Join us for a presentatio
 n of the best  animation entries to the Children’s Film Festival. This pro
 gram is for  animation enthusiasts, kids, kids at heart! From our partne
 rs: “These short  films tell big stories about creatures both great and sm
 all and will take you  on a trip around the world with stop-motion, hand-
 drawn, and other amazing  animation techniques. This program features fil
 ms from the Netherlands,  Australia, United States, United Kingdom, Ca
 nada, France, Japan, Czech  Republic, and Greece.”
DTSTART;TZID=America/New_York:20220806T140000
DTEND;TZID=America/New_York:20220806T160000
GEO:+39.286736;-76.571783
LAST-MODIFIED:20240831T001256Z
LOCATION:Creative Alliance , 3134 Eastern Avenue, Baltimore, MD
SUMMARY:Children's Film Festival Seattle 2022
URL:https://creativealliance.org/events/2022/childrens-film-festival-seattl
 e-2022
X-GBCA-NID:31917
END:VEVENT
END:VCALENDAR
