BEGIN:VCALENDAR
VERSION:2.0
PRODID:-//Date iCal v2.14-dev//NONSGML kigkonsult.se iCalcreator 2.16.6//
METHOD:PUBLISH
X-WR-CALNAME;VALUE=TEXT:Greater Baltimore Cultural Alliance
BEGIN:VTIMEZONE
TZID:America/New_York
BEGIN:STANDARD
DTSTART:20221106T020000
TZOFFSETFROM:-0400
TZOFFSETTO:-0500
TZNAME:EST
END:STANDARD
BEGIN:DAYLIGHT
DTSTART:20230312T020000
TZOFFSETFROM:-0500
TZOFFSETTO:-0400
TZNAME:EDT
END:DAYLIGHT
END:VTIMEZONE
BEGIN:VEVENT
UID:calendar.31975.field_fc_date.0@www.baltimoreculture.org
DTSTAMP:20260424T010546Z
ATTACH;FMTTYPE=image/png:https://www.baltimoreculture.org/sites/default/fil
 es/event-image/new1.png
CATEGORIES:
CREATED:20220809T113600Z
DESCRIPTION:Hop on in with your little froggers for a sweet story time from
  12P.M. to  1P.M. on Monday 8/22/22! This month's stories include Curious 
 George and the  Ice Cream Surprise, Vanilla Bean and I Like You More Than
  Ice Cream! After the stories, children can get a $4 kids cup of yogurt. 
 What a sweet  story with a happy ending!!
DTSTART;VALUE=DATE:20220822
DTEND;VALUE=DATE:20220823
LAST-MODIFIED:20220809T131634Z
LOCATION:SweetFrog Timonium, 2159 York Rd, Timonium, MD
SUMMARY:sweetFrog Timonium Story Time
URL:https://cli.re/20367-sweetfrog-timonium-story-time
X-GBCA-NID:31975
END:VEVENT
END:VCALENDAR
