BEGIN:VCALENDAR
VERSION:2.0
PRODID:-//Date iCal v2.14-dev//NONSGML kigkonsult.se iCalcreator 2.16.6//
METHOD:PUBLISH
X-WR-CALNAME;VALUE=TEXT:Greater Baltimore Cultural Alliance
BEGIN:VTIMEZONE
TZID:America/New_York
BEGIN:STANDARD
DTSTART:20221106T020000
TZOFFSETFROM:-0400
TZOFFSETTO:-0500
TZNAME:EST
END:STANDARD
BEGIN:DAYLIGHT
DTSTART:20230312T020000
TZOFFSETFROM:-0500
TZOFFSETTO:-0400
TZNAME:EDT
END:DAYLIGHT
END:VTIMEZONE
BEGIN:VEVENT
UID:calendar.32044.field_fc_date.0@www.baltimoreculture.org
DTSTAMP:20260422T232234Z
ATTACH;FMTTYPE=image/jpeg:https://www.baltimoreculture.org/sites/default/fi
 les/event-image/frog.jpg
CATEGORIES:,Lectures/ Workshops,,,Lectures/ Workshops
CREATED:20220812T174419Z
DESCRIPTION:Bring your little froggers in to make their very own ice cream 
 masterpiece!  Start with a guided finger-painting of a triple-scoop ice cr
 eam cone, then  finish the class with a kid's cup of sweetFrog yogurt.\n
 \nThe event takes about 1 hour. It includes all art supplies, step-by-ste
 p  instructions and then a kid's cup of sweetFrog to celebrate your master
 piece!  (Only one visit to the toppings bar.)\n\nThis is not a drop off ev
 ent, children must be accompanied by one adult. Both  adults and children
  are welcome to participate.
DTSTART;TZID=America/New_York:20220820T120000
DTEND;TZID=America/New_York:20220820T130000
LAST-MODIFIED:20220813T162622Z
LOCATION:sweetFrog Dundalk, 1407 Merritt Blvd. Ste B, Dundalk, MD
SUMMARY:August's Finger Paint Party at sweetFrog Dundalk
URL:https://www.eventvesta.com/events/20489/t/tickets
X-GBCA-NID:32044
END:VEVENT
END:VCALENDAR
