BEGIN:VCALENDAR
VERSION:2.0
PRODID:-//Date iCal v2.14-dev//NONSGML kigkonsult.se iCalcreator 2.16.6//
METHOD:PUBLISH
X-WR-CALNAME;VALUE=TEXT:Greater Baltimore Cultural Alliance
BEGIN:VTIMEZONE
TZID:America/New_York
BEGIN:STANDARD
DTSTART:20231105T020000
TZOFFSETFROM:-0400
TZOFFSETTO:-0500
TZNAME:EST
END:STANDARD
BEGIN:DAYLIGHT
DTSTART:20230312T020000
TZOFFSETFROM:-0500
TZOFFSETTO:-0400
TZNAME:EDT
END:DAYLIGHT
END:VTIMEZONE
BEGIN:VEVENT
UID:calendar.32071.field_fc_date.0@www.baltimoreculture.org
DTSTAMP:20260424T135625Z
ATTACH;FMTTYPE=image/jpeg:https://www.baltimoreculture.org/sites/default/fi
 les/u117/feb%2012%2023%20culture%20fly%20image.jpg
CATEGORIES:,Performance
CREATED:20220818T215629Z
DESCRIPTION:Celebrate our 35th Anniversary with an all-Bach tribute, featu
 ring  Brandenburg Concerto No. 4 & Cantata 184. Nothing is more delightful
  than the  six Bach Brandenburg Concerti. Our concert features one of the 
 most beloved,  Brandenburg Concerto No. 4 for two solo flutes, solo viol
 in, and string  orchestra. Equally alluring is Cantata 184: /Erwünschtes 
 Freudenlicht/  (Desired light of joy), which, like the Brandenburg Conce
 rto, has delightful  underpinnings of dance throughout.
DTSTART;TZID=America/New_York:20230212T160000
DTEND;TZID=America/New_York:20230212T180000
LAST-MODIFIED:20221201T173256Z
LOCATION:St. Joseph's Parish, 100 Church Lane, Cockeysville, MD
SUMMARY:Bach Pairing No. 2: Brandenburg No. 4 and Cantata 184
URL:https://bachinbaltimore.org/portfolio-items/feb12_23/
X-GBCA-NID:32071
END:VEVENT
END:VCALENDAR
