BEGIN:VCALENDAR
VERSION:2.0
PRODID:-//Date iCal v2.14-dev//NONSGML kigkonsult.se iCalcreator 2.16.6//
METHOD:PUBLISH
X-WR-CALNAME;VALUE=TEXT:Greater Baltimore Cultural Alliance
BEGIN:VTIMEZONE
TZID:America/New_York
BEGIN:STANDARD
DTSTART:20221106T020000
TZOFFSETFROM:-0400
TZOFFSETTO:-0500
TZNAME:EST
END:STANDARD
BEGIN:DAYLIGHT
DTSTART:20230312T020000
TZOFFSETFROM:-0500
TZOFFSETTO:-0400
TZNAME:EDT
END:DAYLIGHT
END:VTIMEZONE
BEGIN:VEVENT
UID:calendar.32212.field_fc_date.0@www.baltimoreculture.org
DTSTAMP:20260425T230048Z
ATTACH;FMTTYPE=image/jpeg:https://www.baltimoreculture.org/sites/default/fi
 les/event-image/WINTERTIME%20Logo.jpg
CATEGORIES:
CREATED:20220916T173519Z
DESCRIPTION:Performances are in WMC Alumni Hall. For ticket information, c
 all  410-857-2448.\n\nMcDaniel College theatre arts students perform “Wint
 ertime,” a comedy  written by Charles L. Mee that follows a family and th
 eir lovers as they  accidentally gather together at a vacation home in the
  dead of winter.  Richard Sautter, adjunct lecturer in theatre arts at Mc
 Daniel, directs the  production. Note: the play is for mature audiences o
 nly.
DTSTART;TZID=America/New_York:20220929T193000
DTEND;TZID=America/New_York:20221001T213000
GEO:+39.582991;-77.003719
LAST-MODIFIED:20220919T123208Z
LOCATION:WMC Alumni Hall, 2 College Hill, Westminster, MD
RDATE;VALUE=PERIOD;TZID=America/New_York:20220930T193000/20220930T213000
RDATE;VALUE=PERIOD;TZID=America/New_York:20221001T193000/20221001T213000
RRULE:FREQ=WEEKLY;UNTIL=20221002T075959Z;INTERVAL=1;WKST=SU
SUMMARY:Wintertime
URL;TYPE=URI:https://www.baltimoreculture.org/calendar/event/32212/winterti
 me
X-GBCA-NID:32212
END:VEVENT
END:VCALENDAR
